BEGIN:VCALENDAR
VERSION:2.0
PRODID:-//Mica Scotti Kole - ECPv5.2.0//NONSGML v1.0//EN
CALSCALE:GREGORIAN
METHOD:PUBLISH
X-WR-CALNAME:Mica Scotti Kole
X-ORIGINAL-URL:https://micascottikole.com
X-WR-CALDESC:Events for Mica Scotti Kole
BEGIN:VTIMEZONE
TZID:UTC
BEGIN:STANDARD
TZOFFSETFROM:+0000
TZOFFSETTO:+0000
TZNAME:UTC
DTSTART:20160101T000000
END:STANDARD
END:VTIMEZONE
BEGIN:VEVENT
DTSTART;VALUE=DATE:20160818
DTEND;VALUE=DATE:20160819
DTSTAMP:20260425T052703
CREATED:20160726T012704Z
LAST-MODIFIED:20160726T012918Z
UID:4964-1471478400-1471564799@micascottikole.com
SUMMARY:ENDING: Plagiarism Busters Contest
DESCRIPTION:The Unplag Plagiarism Busters Contest is a Periodic Facebook Contest. \nSubmit a short story/flash fiction up to 300 words for a chance to win a $150 Amazon gift card. The story must follow the theme: What would you do if an army of ghosts overran your school or college? To submit\, Follow the Unplag Facebook Page\, re-post their contest terms\, and share your story on your Facebook Timeline with the hashtags #Unplag and #PlagiarismBusters. The submission deadline is 7:59pm EST on 8/18/16. \nThe original information page for this Event can be found here. \nPlagiarism Busters Contest Rules\n[list style=”style2″]\n[li]Your entry must not exceed 300 words.[/li]\n[li]Submit only original work.[/li]\n[/list] \nShare this:Click to share on Twitter (Opens in new window)Click to share on LinkedIn (Opens in new window)Click to share on Facebook (Opens in new window)Click to print (Opens in new window)Like this:Like Loading...
URL:https://micascottikole.com/events/ending-plagiarism-busters-contest/
END:VEVENT
END:VCALENDAR