BEGIN:VCALENDAR
VERSION:2.0
PRODID:-//Mica Scotti Kole - ECPv5.2.0//NONSGML v1.0//EN
CALSCALE:GREGORIAN
METHOD:PUBLISH
X-WR-CALNAME:Mica Scotti Kole
X-ORIGINAL-URL:https://micascottikole.com
X-WR-CALDESC:Events for Mica Scotti Kole
BEGIN:VTIMEZONE
TZID:America/Detroit
BEGIN:DAYLIGHT
TZOFFSETFROM:-0500
TZOFFSETTO:-0400
TZNAME:EDT
DTSTART:20170312T070000
END:DAYLIGHT
BEGIN:STANDARD
TZOFFSETFROM:-0400
TZOFFSETTO:-0500
TZNAME:EST
DTSTART:20171105T060000
END:STANDARD
END:VTIMEZONE
BEGIN:VEVENT
DTSTART;VALUE=DATE:20171023
DTEND;VALUE=DATE:20171024
DTSTAMP:20260419T154412
CREATED:20170929T055910Z
LAST-MODIFIED:20170929T055910Z
UID:7770-1508716800-1508803199@micascottikole.com
SUMMARY:ENDING: Pittsburgh Book Prize (US: Pittsburgh)
DESCRIPTION:The Pittsburgh Book Prize is for ” a book-length nonfiction prose manuscript (memoir\, literary journalism\, personal essay) focusing on a subject of regional and national significance\, by a writer with a meaningful Pittsburgh connection.” Prize is $10\,000 and publication. \nMore info here and here. Hosted by CreativeNonfiction.org. \n  \nFind my events helpful?\n Donate $1 on Patreon to keep me ad-free! \nShare this:Click to share on Twitter (Opens in new window)Click to share on LinkedIn (Opens in new window)Click to share on Facebook (Opens in new window)Click to print (Opens in new window)Like this:Like Loading...
URL:https://micascottikole.com/events/ending-pittsburgh-book-prize-us-pittsburgh/
ATTACH;FMTTYPE=image/png:https://micascottikole.com/wp-content/uploads/2017/04/BG_Nonfiction.png
END:VEVENT
END:VCALENDAR