BEGIN:VCALENDAR
VERSION:2.0
PRODID:-//Mica Scotti Kole - ECPv5.2.0//NONSGML v1.0//EN
CALSCALE:GREGORIAN
METHOD:PUBLISH
X-WR-CALNAME:Mica Scotti Kole
X-ORIGINAL-URL:https://micascottikole.com
X-WR-CALDESC:Events for Mica Scotti Kole
BEGIN:VTIMEZONE
TZID:America/Detroit
BEGIN:DAYLIGHT
TZOFFSETFROM:-0500
TZOFFSETTO:-0400
TZNAME:EDT
DTSTART:20170312T070000
END:DAYLIGHT
BEGIN:STANDARD
TZOFFSETFROM:-0400
TZOFFSETTO:-0500
TZNAME:EST
DTSTART:20171105T060000
END:STANDARD
END:VTIMEZONE
BEGIN:VEVENT
DTSTART;VALUE=DATE:20171031
DTEND;VALUE=DATE:20171101
DTSTAMP:20260419T045353
CREATED:20170829T010358Z
LAST-MODIFIED:20170829T011202Z
UID:7494-1509408000-1509494399@micascottikole.com
SUMMARY:ENDING: PEN/Faulkner Award (Pubbed)
DESCRIPTION:The PEN/Faulkner Award is for fiction novels\, novellas\, and collections of short stories published in 2017 (including November and December). Award value changes yearly according to grants acquired\, but should be substantial. \nMore info here. Hosted by the PEN/Faulkner Foundation. \n— \nFind my events helpful?\nHere are ways you can support me: \n♠ Sign up for my once-a-month newsletter! \n♠ Spread the word about my $5 query critique or $10 editing! \n♠ Donate $1 on Patreon! \nShare this:Click to share on Twitter (Opens in new window)Click to share on LinkedIn (Opens in new window)Click to share on Facebook (Opens in new window)Click to print (Opens in new window)Like this:Like Loading...
URL:https://micascottikole.com/events/ending-penfaulkner-award/
ATTACH;FMTTYPE=image/png:https://micascottikole.com/wp-content/uploads/2017/04/BG_Fellowship.png
END:VEVENT
END:VCALENDAR