BEGIN:VCALENDAR
VERSION:2.0
PRODID:-//Mica Scotti Kole - ECPv5.2.0//NONSGML v1.0//EN
CALSCALE:GREGORIAN
METHOD:PUBLISH
X-WR-CALNAME:Mica Scotti Kole
X-ORIGINAL-URL:https://micascottikole.com
X-WR-CALDESC:Events for Mica Scotti Kole
BEGIN:VTIMEZONE
TZID:UTC
BEGIN:STANDARD
TZOFFSETFROM:+0000
TZOFFSETTO:+0000
TZNAME:UTC
DTSTART:20160101T000000
END:STANDARD
END:VTIMEZONE
BEGIN:VEVENT
DTSTART;VALUE=DATE:20160930
DTEND;VALUE=DATE:20161001
DTSTAMP:20260423T044140
CREATED:20160726T035105Z
LAST-MODIFIED:20160923T163559Z
UID:4977-1475193600-1475279999@micascottikole.com
SUMMARY:ENDING: Off the Beaten Track Competition
DESCRIPTION:The Off the Beaten Track Competition is a Periodic Web Contest for a travel short stories (these can be fictional). \nSubmit any story up to 750 words according to the theme Off the beaten track. Stories can be “about a fascinating\, relatively unknown place near to where you live or that you came across by chance when travelling around\, or it may be a totally fictional place. It’s entirely up to you.” Keep in mind that the intended audience of the story will be seniors. The prize is £100 and publication on the website. Runners-up will win a subscription and publication on the website. The submission window closes on 9/30/16. \nThe original information page and submission form for this Event can be found here. \nOff the Beaten Track Competition Rules\n[list style=”style2″]\n[li]Entrants must be at least 16 years old .[/li]\n[li]Entries must not exceed 750 words.[/li]\n[li]Your work must be original and unpublished.[/li]\n[/list] \nShare this:Click to share on Twitter (Opens in new window)Click to share on LinkedIn (Opens in new window)Click to share on Facebook (Opens in new window)Click to print (Opens in new window)Like this:Like Loading...
URL:https://micascottikole.com/events/ending-off-beaten-track-competition/
END:VEVENT
END:VCALENDAR