BEGIN:VCALENDAR
VERSION:2.0
PRODID:-//Mica Scotti Kole - ECPv5.2.0//NONSGML v1.0//EN
CALSCALE:GREGORIAN
METHOD:PUBLISH
X-WR-CALNAME:Mica Scotti Kole
X-ORIGINAL-URL:https://micascottikole.com
X-WR-CALDESC:Events for Mica Scotti Kole
BEGIN:VTIMEZONE
TZID:America/Detroit
BEGIN:DAYLIGHT
TZOFFSETFROM:-0500
TZOFFSETTO:-0400
TZNAME:EDT
DTSTART:20180311T070000
END:DAYLIGHT
BEGIN:STANDARD
TZOFFSETFROM:-0400
TZOFFSETTO:-0500
TZNAME:EST
DTSTART:20181104T060000
END:STANDARD
END:VTIMEZONE
BEGIN:VEVENT
DTSTART;VALUE=DATE:20180618
DTEND;VALUE=DATE:20180619
DTSTAMP:20260418T210023
CREATED:20180530T041516Z
LAST-MODIFIED:20180530T041516Z
UID:9023-1529280000-1529366399@micascottikole.com
SUMMARY:ENDING: Ocean Awareness Student Contest (Youth)
DESCRIPTION:The Ocean Awareness Student Contest is for poetry\, essays\, fiction\, music\, film\, spoken word\, and artwork by writers aged 11-18 that talks about climate change and ocean conservation. Prizes up to $1500 in each genre. \nMore info here. Hosted by Bow Seat. \n  \nFree Writing Events offers budget editing services from $5-10!\nYou can also support FWE on Patreon to keep it ad-free. \nSee any errors? Have I missed an event?\nContact me! \nShare this:Click to share on Twitter (Opens in new window)Click to share on LinkedIn (Opens in new window)Click to share on Facebook (Opens in new window)Click to print (Opens in new window)Like this:Like Loading...
URL:https://micascottikole.com/events/ending-ocean-awareness-student-contest-youth/
ATTACH;FMTTYPE=image/png:https://micascottikole.com/wp-content/uploads/2017/04/BG_Youth.png
END:VEVENT
END:VCALENDAR