BEGIN:VCALENDAR
VERSION:2.0
PRODID:-//Mica Scotti Kole - ECPv5.2.0//NONSGML v1.0//EN
CALSCALE:GREGORIAN
METHOD:PUBLISH
X-WR-CALNAME:Mica Scotti Kole
X-ORIGINAL-URL:https://micascottikole.com
X-WR-CALDESC:Events for Mica Scotti Kole
BEGIN:VTIMEZONE
TZID:America/Detroit
BEGIN:DAYLIGHT
TZOFFSETFROM:-0500
TZOFFSETTO:-0400
TZNAME:EDT
DTSTART:20200308T070000
END:DAYLIGHT
BEGIN:STANDARD
TZOFFSETFROM:-0400
TZOFFSETTO:-0500
TZNAME:EST
DTSTART:20201101T060000
END:STANDARD
END:VTIMEZONE
BEGIN:VEVENT
DTSTART;VALUE=DATE:20200301
DTEND;VALUE=DATE:20200302
DTSTAMP:20260422T011912
CREATED:20200201T064235Z
LAST-MODIFIED:20200201T064235Z
UID:10685-1583020800-1583107199@micascottikole.com
SUMMARY:ENDING: Naomi Long Madgett Poetry Award (Diverse: African American)
DESCRIPTION:The Naomi Long Madgett Poetry Award is for a collection of poetry of 60 to 90 pages by African American poets. Prize is $500.   \nMore info here.  Sponsored/Hosted by Broadside Lotus Press. \nThis month\, Free Writing Events is training an intern! Please excuse any grammar and spelling mistakes as we work through the training process. Thank you!  \nSee any errors? Have we missed an event?\nContact Mica at elusivepressbooks *at* gmail. \nShare this:Click to share on Twitter (Opens in new window)Click to share on LinkedIn (Opens in new window)Click to share on Facebook (Opens in new window)Click to print (Opens in new window)Like this:Like Loading...
URL:https://micascottikole.com/events/ending-naomi-long-madgett-poetry-award-diverse-african-american/
ATTACH;FMTTYPE=image/png:https://micascottikole.com/wp-content/uploads/2017/04/BG_poetry.png
END:VEVENT
END:VCALENDAR