BEGIN:VCALENDAR
VERSION:2.0
PRODID:-//Mica Scotti Kole - ECPv5.2.0//NONSGML v1.0//EN
CALSCALE:GREGORIAN
METHOD:PUBLISH
X-WR-CALNAME:Mica Scotti Kole
X-ORIGINAL-URL:https://micascottikole.com
X-WR-CALDESC:Events for Mica Scotti Kole
BEGIN:VTIMEZONE
TZID:America/Detroit
BEGIN:DAYLIGHT
TZOFFSETFROM:-0500
TZOFFSETTO:-0400
TZNAME:EDT
DTSTART:20170312T070000
END:DAYLIGHT
BEGIN:STANDARD
TZOFFSETFROM:-0400
TZOFFSETTO:-0500
TZNAME:EST
DTSTART:20171105T060000
END:STANDARD
END:VTIMEZONE
BEGIN:VEVENT
DTSTART;VALUE=DATE:20171015
DTEND;VALUE=DATE:20171016
DTSTAMP:20260423T184942
CREATED:20170929T141318Z
LAST-MODIFIED:20170929T141318Z
UID:7777-1508025600-1508111999@micascottikole.com
SUMMARY:ENDING: Nanjing Poetry Contest
DESCRIPTION:The Nanjing Poetry Contest  is for poetry about the Nanjing Massacre. Per the host site\, about the event: \nDuring December of 1937 and subsequent months in Nanjing (Nanking)\, over 300\,000 civilian and disarmed combatants were murdered by the Japanese troops. The Japanese soldiers also gang-raped over 20\,000 females\, including the seniors and minors\, and robbed/destroyed countless valuable economic and cultural properties. We are now especially angry that so far the Japanese Government has still denied the facts of such terrible war crime committed by their Imperial Army. \nPrize is $1000 in each language category as well as a trip to Washington DC for an awards ceremony and online publication. \nMore info here and here. Hosted by NanjingMassacre1937.org. \n  \nFind my events helpful?\n Donate $1 on Patreon to keep me ad-free! \nShare this:Click to share on Twitter (Opens in new window)Click to share on LinkedIn (Opens in new window)Click to share on Facebook (Opens in new window)Click to print (Opens in new window)Like this:Like Loading...
URL:https://micascottikole.com/events/ending-nanjing-poetry-contest/
ATTACH;FMTTYPE=image/png:https://micascottikole.com/wp-content/uploads/2017/04/BG_poetry.png
END:VEVENT
END:VCALENDAR