BEGIN:VCALENDAR
VERSION:2.0
PRODID:-//Mica Scotti Kole - ECPv5.2.0//NONSGML v1.0//EN
CALSCALE:GREGORIAN
METHOD:PUBLISH
X-WR-CALNAME:Mica Scotti Kole
X-ORIGINAL-URL:https://micascottikole.com
X-WR-CALDESC:Events for Mica Scotti Kole
BEGIN:VTIMEZONE
TZID:America/Detroit
BEGIN:DAYLIGHT
TZOFFSETFROM:-0500
TZOFFSETTO:-0400
TZNAME:EDT
DTSTART:20180311T070000
END:DAYLIGHT
BEGIN:STANDARD
TZOFFSETFROM:-0400
TZOFFSETTO:-0500
TZNAME:EST
DTSTART:20181104T060000
END:STANDARD
END:VTIMEZONE
BEGIN:VEVENT
DTSTART;VALUE=DATE:20181031
DTEND;VALUE=DATE:20181101
DTSTAMP:20260419T172049
CREATED:20180927T061003Z
LAST-MODIFIED:20180927T061003Z
UID:9369-1540944000-1541030399@micascottikole.com
SUMMARY:ENDING: McKitterick Prize for First Novels
DESCRIPTION:The McKitterick Prize for First Novels is for first fiction novels (either published or unpublished) of any word count by any author aged 40 or older. Prize is £4\,000 and £1\,000 for the runner-up. \nMore info here and here. Sponsored/Hosted by the Society of Authors and Poets. \nFree Writing Events offers budget editing services from $5-12!\nYou can also support FWE on Patreon to keep it ad-free. \nSee any errors? Have I missed an event?\nContact me! \nShare this:Click to share on Twitter (Opens in new window)Click to share on LinkedIn (Opens in new window)Click to share on Facebook (Opens in new window)Click to print (Opens in new window)Like this:Like Loading...
URL:https://micascottikole.com/events/ending-mckitterick-prize-first-novels/
ATTACH;FMTTYPE=image/png:https://micascottikole.com/wp-content/uploads/2017/04/BG_Novel.png
END:VEVENT
END:VCALENDAR