BEGIN:VCALENDAR
VERSION:2.0
PRODID:-//Mica Scotti Kole - ECPv5.2.0//NONSGML v1.0//EN
CALSCALE:GREGORIAN
METHOD:PUBLISH
X-WR-CALNAME:Mica Scotti Kole
X-ORIGINAL-URL:https://micascottikole.com
X-WR-CALDESC:Events for Mica Scotti Kole
BEGIN:VTIMEZONE
TZID:America/Detroit
BEGIN:DAYLIGHT
TZOFFSETFROM:-0500
TZOFFSETTO:-0400
TZNAME:EDT
DTSTART:20170312T070000
END:DAYLIGHT
BEGIN:STANDARD
TZOFFSETFROM:-0400
TZOFFSETTO:-0500
TZNAME:EST
DTSTART:20171105T060000
END:STANDARD
END:VTIMEZONE
BEGIN:VEVENT
DTSTART;VALUE=DATE:20171101
DTEND;VALUE=DATE:20171102
DTSTAMP:20260419T192721
CREATED:20171027T062049Z
LAST-MODIFIED:20171031T165041Z
UID:7912-1509494400-1509580799@micascottikole.com
SUMMARY:ENDING: Lindenwood Chapter One Contest
DESCRIPTION:The Lindenwood Chapter One Contest is for the first chapter of a novel up to 25 double-spaced pages in traditional format. Novel can be any genre. Prize is $50 and publication. \nMore info here. Hosted by the Lindenwood Review. \nNote: I’ve been notified that the submission page for this contest is not working properly and is not accepting submissions. I have emailed the administrators and they claim there is a glitch that will go away on November 1st\, so try submitting then. Here’s hoping! \n  \nFind my events helpful?\n Donate $1 on Patreon to keep me ad-free! \nShare this:Click to share on Twitter (Opens in new window)Click to share on LinkedIn (Opens in new window)Click to share on Facebook (Opens in new window)Click to print (Opens in new window)Like this:Like Loading...
URL:https://micascottikole.com/events/ending-lindenwood-chapter-one-contest/
ATTACH;FMTTYPE=image/png:https://micascottikole.com/wp-content/uploads/2017/07/BG_Other.png
END:VEVENT
END:VCALENDAR