BEGIN:VCALENDAR
VERSION:2.0
PRODID:-//Mica Scotti Kole - ECPv5.2.0//NONSGML v1.0//EN
CALSCALE:GREGORIAN
METHOD:PUBLISH
X-WR-CALNAME:Mica Scotti Kole
X-ORIGINAL-URL:https://micascottikole.com
X-WR-CALDESC:Events for Mica Scotti Kole
BEGIN:VTIMEZONE
TZID:America/Detroit
BEGIN:DAYLIGHT
TZOFFSETFROM:-0500
TZOFFSETTO:-0400
TZNAME:EDT
DTSTART:20170312T070000
END:DAYLIGHT
BEGIN:STANDARD
TZOFFSETFROM:-0400
TZOFFSETTO:-0500
TZNAME:EST
DTSTART:20171105T060000
END:STANDARD
END:VTIMEZONE
BEGIN:VEVENT
DTSTART;VALUE=DATE:20170616
DTEND;VALUE=DATE:20170617
DTSTAMP:20260417T174439
CREATED:20170426T194756Z
LAST-MODIFIED:20170426T194756Z
UID:6758-1497571200-1497657599@micascottikole.com
SUMMARY:ENDING: Linda Flowers Literary Award (US: NC)
DESCRIPTION:The Linda Flowers Literary Award is for a “work of poetry\, fiction\, or creative nonfiction that reflects the people and culture of North Carolina.” Submit a sample of 3 to 10 pages for a chance to earn the prize of $1\,500 and a weeklong residency at Weymouth Center for the Arts and Humanities in Southern Pines\, North Carolina. Entrants must be residents of North Carolina over the age of 18. \nMore info here. Sponsored by North Carolina Humanities Council. \nWas this page helpful? Consider supporting me on Patreon for $1/month. It helps me manage these events and keeps my website ad-free… and it earns you some cool stuff too! \nShare this:Click to share on Twitter (Opens in new window)Click to share on LinkedIn (Opens in new window)Click to share on Facebook (Opens in new window)Click to print (Opens in new window)Like this:Like Loading...
URL:https://micascottikole.com/events/ending-linda-flowers-literary-award-us-nc/
ATTACH;FMTTYPE=image/png:https://micascottikole.com/wp-content/uploads/2017/04/BG_Various.png
END:VEVENT
END:VCALENDAR