BEGIN:VCALENDAR
VERSION:2.0
PRODID:-//Mica Scotti Kole - ECPv5.2.0//NONSGML v1.0//EN
CALSCALE:GREGORIAN
METHOD:PUBLISH
X-WR-CALNAME:Mica Scotti Kole
X-ORIGINAL-URL:https://micascottikole.com
X-WR-CALDESC:Events for Mica Scotti Kole
BEGIN:VTIMEZONE
TZID:America/Detroit
BEGIN:DAYLIGHT
TZOFFSETFROM:-0500
TZOFFSETTO:-0400
TZNAME:EDT
DTSTART:20180311T070000
END:DAYLIGHT
BEGIN:STANDARD
TZOFFSETFROM:-0400
TZOFFSETTO:-0500
TZNAME:EST
DTSTART:20181104T060000
END:STANDARD
END:VTIMEZONE
BEGIN:VEVENT
DTSTART;VALUE=DATE:20180915
DTEND;VALUE=DATE:20180916
DTSTAMP:20260422T032756
CREATED:20180829T055519Z
LAST-MODIFIED:20180829T055519Z
UID:9307-1536969600-1537055999@micascottikole.com
SUMMARY:ENDING: LifeOfWriters Contest
DESCRIPTION:The LifeOfWriters Contest is for short stories of up to 1500 words on the theme “a couple is selling their house. Why?” by any author. Prize is $25-$45 in Amazon gift cards. This contest runs monthly with different themes and word counts each time. You will have to make an account to enter\, but they don’t spam you. \nMore info here. Sponsored/Hosted by LifeOfWriters. \nFree Writing Events offers budget editing services from $5-12!\nYou can also support FWE on Patreon to keep it ad-free. \nSee any errors? Have I missed an event?\nContact me! \nShare this:Click to share on Twitter (Opens in new window)Click to share on LinkedIn (Opens in new window)Click to share on Facebook (Opens in new window)Click to print (Opens in new window)Like this:Like Loading...
URL:https://micascottikole.com/events/ending-lifeofwriters-contest/
ATTACH;FMTTYPE=image/png:https://micascottikole.com/wp-content/uploads/2017/04/BG_ShortStory.png
END:VEVENT
END:VCALENDAR