BEGIN:VCALENDAR
VERSION:2.0
PRODID:-//Mica Scotti Kole - ECPv5.2.0//NONSGML v1.0//EN
CALSCALE:GREGORIAN
METHOD:PUBLISH
X-WR-CALNAME:Mica Scotti Kole
X-ORIGINAL-URL:https://micascottikole.com
X-WR-CALDESC:Events for Mica Scotti Kole
BEGIN:VTIMEZONE
TZID:America/Detroit
BEGIN:DAYLIGHT
TZOFFSETFROM:-0500
TZOFFSETTO:-0400
TZNAME:EDT
DTSTART:20160313T070000
END:DAYLIGHT
BEGIN:STANDARD
TZOFFSETFROM:-0400
TZOFFSETTO:-0500
TZNAME:EST
DTSTART:20161106T060000
END:STANDARD
END:VTIMEZONE
BEGIN:VEVENT
DTSTART;TZID=America/Detroit:20161213T080000
DTEND;TZID=America/Detroit:20161213T170000
DTSTAMP:20260417T185310
CREATED:20161213T000909Z
LAST-MODIFIED:20161213T000948Z
UID:5681-1481616000-1481648400@micascottikole.com
SUMMARY:ENDING: Life Saver Essay Contest
DESCRIPTION:The Life Saver Essay Contest is for nonfiction essays between 800 and 1300 words on one of a list of given topics. \nSummary\nYou may choose one of the following topics: \n1. Impact of essay writing services on students – do they curb their growth or help them develop? \n2. Unconventional but effective management practices to enhance workplace productivity \n3. Can academic writing skills translate to employability skills in a corporate career? \n4. How do you think education will change in the next 40 years? \n5. Is face to face learning better than online learning? \nSubmit essays via online submission form. You may include images that are not copyrighted with your entry. Monetary prizes are as follows: (1st – $600) (2nd – $350) (3rd – $200). Deadline for entries is January 31st\, 2017. \nLinks\nThe original information page for this Event\, including full guidelines\, can be found here. It is hosted by Life Saver Essays. \nRules\n[list style=”style2″]\n[li]Entries must be in English.[/li]\n[li]Entries must follow ONE of the given topics.[/li]\n[li]Entries must be 800-1300 words.[/li]\n[li]Submit according to site guidelines.[/li]\n[/list] \nShare this:Click to share on Twitter (Opens in new window)Click to share on LinkedIn (Opens in new window)Click to share on Facebook (Opens in new window)Click to print (Opens in new window)Like this:Like Loading...
URL:https://micascottikole.com/events/ending-life-saver-essay-contest/
END:VEVENT
END:VCALENDAR