BEGIN:VCALENDAR
VERSION:2.0
PRODID:-//Mica Scotti Kole - ECPv5.2.0//NONSGML v1.0//EN
CALSCALE:GREGORIAN
METHOD:PUBLISH
X-WR-CALNAME:Mica Scotti Kole
X-ORIGINAL-URL:https://micascottikole.com
X-WR-CALDESC:Events for Mica Scotti Kole
BEGIN:VTIMEZONE
TZID:America/Detroit
BEGIN:DAYLIGHT
TZOFFSETFROM:-0500
TZOFFSETTO:-0400
TZNAME:EDT
DTSTART:20170312T070000
END:DAYLIGHT
BEGIN:STANDARD
TZOFFSETFROM:-0400
TZOFFSETTO:-0500
TZNAME:EST
DTSTART:20171105T060000
END:STANDARD
END:VTIMEZONE
BEGIN:VEVENT
DTSTART;VALUE=DATE:20171031
DTEND;VALUE=DATE:20171101
DTSTAMP:20260422T021250
CREATED:20170304T224110Z
LAST-MODIFIED:20170417T183649Z
UID:6441-1509408000-1509494399@micascottikole.com
SUMMARY:ENDING: Juicingbeasts Staying Healthy Scholarship (College)
DESCRIPTION:The Juicingbeasts Staying Healthy Scholarship is for essays between 800-1000 words on the topic “How to stay healthy in 2017.” The author must be enrolled in higher education. The prize is $500\, with the top five essays being published on the site if the author gives permission. \nMore information here. Hosted by JuicingBeasts. \nShare this:Click to share on Twitter (Opens in new window)Click to share on LinkedIn (Opens in new window)Click to share on Facebook (Opens in new window)Click to print (Opens in new window)Like this:Like Loading...
URL:https://micascottikole.com/events/ending-juicingbeasts-staying-healthy-scholarship-college/
ATTACH;FMTTYPE=image/png:https://micascottikole.com/wp-content/uploads/2017/04/BG_Informational.png
END:VEVENT
END:VCALENDAR