BEGIN:VCALENDAR
VERSION:2.0
PRODID:-//Mica Scotti Kole - ECPv5.2.0//NONSGML v1.0//EN
CALSCALE:GREGORIAN
METHOD:PUBLISH
X-WR-CALNAME:Mica Scotti Kole
X-ORIGINAL-URL:https://micascottikole.com
X-WR-CALDESC:Events for Mica Scotti Kole
BEGIN:VTIMEZONE
TZID:America/Detroit
BEGIN:DAYLIGHT
TZOFFSETFROM:-0500
TZOFFSETTO:-0400
TZNAME:EDT
DTSTART:20170312T070000
END:DAYLIGHT
BEGIN:STANDARD
TZOFFSETFROM:-0400
TZOFFSETTO:-0500
TZNAME:EST
DTSTART:20171105T060000
END:STANDARD
END:VTIMEZONE
BEGIN:VEVENT
DTSTART;VALUE=DATE:20171005
DTEND;VALUE=DATE:20171006
DTSTAMP:20260423T170217
CREATED:20170929T010016Z
LAST-MODIFIED:20170929T010016Z
UID:7719-1507161600-1507247999@micascottikole.com
SUMMARY:ENDING: Inked Voices YA Sci-Fi and Fantasy Contest (Diverse)
DESCRIPTION:The Inked Voices YA Sci-Fi and Fantasy Contest is for YA science fiction or fantasy writers that are diverse/underrepresented/marginalized. You don’t enter work; you just apply\, and a winner is drawn. Prize is free entry into a workshop with agent Eric Smith. \nEnter here. Hosted by Inked Voices. \n  \nFind my events helpful?\n Donate $1 on Patreon to keep me ad-free! \nShare this:Click to share on Twitter (Opens in new window)Click to share on LinkedIn (Opens in new window)Click to share on Facebook (Opens in new window)Click to print (Opens in new window)Like this:Like Loading...
URL:https://micascottikole.com/events/ending-inked-voices-ya-sci-fi-fantasy-contest-diverse/
ATTACH;FMTTYPE=image/png:https://micascottikole.com/wp-content/uploads/2017/04/BG_Critique.png
END:VEVENT
END:VCALENDAR