BEGIN:VCALENDAR
VERSION:2.0
PRODID:-//Mica Scotti Kole - ECPv5.2.0//NONSGML v1.0//EN
CALSCALE:GREGORIAN
METHOD:PUBLISH
X-WR-CALNAME:Mica Scotti Kole
X-ORIGINAL-URL:https://micascottikole.com
X-WR-CALDESC:Events for Mica Scotti Kole
BEGIN:VTIMEZONE
TZID:America/Detroit
BEGIN:DAYLIGHT
TZOFFSETFROM:-0500
TZOFFSETTO:-0400
TZNAME:EDT
DTSTART:20170312T070000
END:DAYLIGHT
BEGIN:STANDARD
TZOFFSETFROM:-0400
TZOFFSETTO:-0500
TZNAME:EST
DTSTART:20171105T060000
END:STANDARD
END:VTIMEZONE
BEGIN:VEVENT
DTSTART;VALUE=DATE:20170630
DTEND;VALUE=DATE:20170701
DTSTAMP:20260422T122638
CREATED:20170526T012601Z
LAST-MODIFIED:20170527T050419Z
UID:6970-1498780800-1498867199@micascottikole.com
SUMMARY:ENDING: Go For Broke Contest (Student)
DESCRIPTION:The Go For Broke Contest is for essays\, poetry\, and video by high school or college students on the topics given. Essays must be 250-500 words and poems cannot exceed 3 typed pages. Topics (quoted from host site): \nI. The Japanese American WWII veteran experience is still relevant to our society today. Explore one of the ways this is true. \nII. Japanese American WWII veterans not only had the courage to fight against the enemy abroad; they fought for their civil rights at home. Our Missions of Courage and Compassion Program seeks to preserve the WWII Japanese American veteran legacy of standing up for equality through projects which address contemporary issues of equality. Explore how you stand up for equality as inspired by the WWII Japanese American veterans. \nPrize is  two complimentary tickets to attend the 16th Annual Evening of Aloha Gala Dinner (L.A.\, CA\, US). Does not include travel. \nMore info here. Sponsored by Go For Broke National Education Center. \n— \nFind my events helpful?\nHere are ways you can support me: \n♠ Sign up for my once-a-month newsletter! \n♠ Comment on my blog! \n♠ Donate $1 on Patreon! \nShare this:Click to share on Twitter (Opens in new window)Click to share on LinkedIn (Opens in new window)Click to share on Facebook (Opens in new window)Click to print (Opens in new window)Like this:Like Loading...
URL:https://micascottikole.com/events/ending-go-broke-contest-student-2/
ATTACH;FMTTYPE=image/png:https://micascottikole.com/wp-content/uploads/2017/04/BG_Student.png
END:VEVENT
END:VCALENDAR