BEGIN:VCALENDAR
VERSION:2.0
PRODID:-//Mica Scotti Kole - ECPv5.2.0//NONSGML v1.0//EN
CALSCALE:GREGORIAN
METHOD:PUBLISH
X-WR-CALNAME:Mica Scotti Kole
X-ORIGINAL-URL:https://micascottikole.com
X-WR-CALDESC:Events for Mica Scotti Kole
BEGIN:VTIMEZONE
TZID:America/Detroit
BEGIN:DAYLIGHT
TZOFFSETFROM:-0500
TZOFFSETTO:-0400
TZNAME:EDT
DTSTART:20170312T070000
END:DAYLIGHT
BEGIN:STANDARD
TZOFFSETFROM:-0400
TZOFFSETTO:-0500
TZNAME:EST
DTSTART:20171105T060000
END:STANDARD
END:VTIMEZONE
BEGIN:VEVENT
DTSTART;VALUE=DATE:20170601
DTEND;VALUE=DATE:20170602
DTSTAMP:20260420T024411
CREATED:20170525T070215Z
LAST-MODIFIED:20170525T070215Z
UID:6950-1496275200-1496361599@micascottikole.com
SUMMARY:ENDING: Fraser Institute Student Essay Contest (CAN)(Student)(Youth/Adult)
DESCRIPTION:The Fraser Institute Student Essay Contest is for scholarly essays on a given theme by Canadian high school\, college\, and graduate students. Essays must be 1000-1500 words long and follow the topic “Regulating the Sharing Economy: Do the Costs Outweigh the Benefits?”. Prizes are $500-1500 in each of the three education levels. \nMore info here. Sponsored by the Fraser Institiute. \n— \nFind my events helpful?\nHere are ways you can support me: \n♠ Sign up for my once-a-month newsletter! \n♠ Comment on my blog! \n♠ Donate $1 on Patreon! \nShare this:Click to share on Twitter (Opens in new window)Click to share on LinkedIn (Opens in new window)Click to share on Facebook (Opens in new window)Click to print (Opens in new window)Like this:Like Loading...
URL:https://micascottikole.com/events/ending-fraser-institute-student-essay-contest-canstudentyouthadult/
ATTACH;FMTTYPE=image/png:https://micascottikole.com/wp-content/uploads/2017/04/BG_Informational.png
END:VEVENT
END:VCALENDAR