BEGIN:VCALENDAR
VERSION:2.0
PRODID:-//Mica Scotti Kole - ECPv5.2.0//NONSGML v1.0//EN
CALSCALE:GREGORIAN
METHOD:PUBLISH
X-WR-CALNAME:Mica Scotti Kole
X-ORIGINAL-URL:https://micascottikole.com
X-WR-CALDESC:Events for Mica Scotti Kole
BEGIN:VTIMEZONE
TZID:UTC
BEGIN:STANDARD
TZOFFSETFROM:+0000
TZOFFSETTO:+0000
TZNAME:UTC
DTSTART:20170101T000000
END:STANDARD
END:VTIMEZONE
BEGIN:VEVENT
DTSTART;VALUE=DATE:20171115
DTEND;VALUE=DATE:20171116
DTSTAMP:20260419T160901
CREATED:20160726T043630Z
LAST-MODIFIED:20170726T193858Z
UID:4985-1510704000-1510790399@micascottikole.com
SUMMARY:ENDING: Traditional Mystery Novel Competition
DESCRIPTION:This contest is run by Minotaur Books (Macmillan) and the prize (last I checked) was a publishing deal including a $10\,000 advance on royalties. \nThe original information page for this Event can be found here. (Scroll down if needed.) \nNOTE: The Traditional Mystery Novel/Malice Domestic Competition/First Private Eye Novel Competition has changed their listing several times\, causing confusion to anyone visiting my page(s) on the contest (even the due date may have changed by the time you read this). It also has not yet updated the year to indicate a 2017 due date\, although the listings are supposed to vanish when the contests are over. This leads me to request that you visit the page directly for full information. It is also possible that this is some sort of scheme to get book submissions in specific genres\, without the company ever having to actually choose a winner – but as this is a Macmillan company\, I’m loath to believe that. At any rate\, many apologies for any past confusion and for not having more info on this page. \n\nShare this:Click to share on Twitter (Opens in new window)Click to share on LinkedIn (Opens in new window)Click to share on Facebook (Opens in new window)Click to print (Opens in new window)Like this:Like Loading...
URL:https://micascottikole.com/events/ending-first-private-eye-novel-competition/
ATTACH;FMTTYPE=image/png:https://micascottikole.com/wp-content/uploads/2017/04/BG_Novel.png
END:VEVENT
END:VCALENDAR