BEGIN:VCALENDAR
VERSION:2.0
PRODID:-//Mica Scotti Kole - ECPv5.2.0//NONSGML v1.0//EN
CALSCALE:GREGORIAN
METHOD:PUBLISH
X-WR-CALNAME:Mica Scotti Kole
X-ORIGINAL-URL:https://micascottikole.com
X-WR-CALDESC:Events for Mica Scotti Kole
BEGIN:VTIMEZONE
TZID:UTC
BEGIN:STANDARD
TZOFFSETFROM:+0000
TZOFFSETTO:+0000
TZNAME:UTC
DTSTART:20160101T000000
END:STANDARD
END:VTIMEZONE
BEGIN:VEVENT
DTSTART;VALUE=DATE:20161031
DTEND;VALUE=DATE:20161101
DTSTAMP:20260419T203143
CREATED:20160831T024754Z
LAST-MODIFIED:20161025T005136Z
UID:5172-1477872000-1477958399@micascottikole.com
SUMMARY:ENDING: Firewords Quarterly Writing Contest
DESCRIPTION:The Firewords Quarterly Writing Contest is a Periodic Web Contest for flash fiction inspired by the image provided. \nSubmit a short story up to 1\,000 words according to the image on this site. The prize is publication and three various volumes of the magazine. The submission window closes on 10/31/16. \nFor more information and submission guidelines please visit this page. \nFirewords Quarterly Writing Contest Rules\n[list style=”style2″]\n[li]One entry only.[/li]\n[li]Your work cannot exceed 1000 words.[/li]\n[li]Your work must recognizably follow the theme image.[/li]\n[li]Your work must be original and unpublished.[/li]\n[/list] \nShare this:Click to share on Twitter (Opens in new window)Click to share on LinkedIn (Opens in new window)Click to share on Facebook (Opens in new window)Click to print (Opens in new window)Like this:Like Loading...
URL:https://micascottikole.com/events/ending-firewords-quarterly/
END:VEVENT
END:VCALENDAR