BEGIN:VCALENDAR
VERSION:2.0
PRODID:-//Mica Scotti Kole - ECPv5.2.0//NONSGML v1.0//EN
CALSCALE:GREGORIAN
METHOD:PUBLISH
X-WR-CALNAME:Mica Scotti Kole
X-ORIGINAL-URL:https://micascottikole.com
X-WR-CALDESC:Events for Mica Scotti Kole
BEGIN:VTIMEZONE
TZID:America/Detroit
BEGIN:DAYLIGHT
TZOFFSETFROM:-0500
TZOFFSETTO:-0400
TZNAME:EDT
DTSTART:20160313T070000
END:DAYLIGHT
BEGIN:STANDARD
TZOFFSETFROM:-0400
TZOFFSETTO:-0500
TZNAME:EST
DTSTART:20161106T060000
END:STANDARD
END:VTIMEZONE
BEGIN:VEVENT
DTSTART;VALUE=DATE:20161031
DTEND;VALUE=DATE:20161101
DTSTAMP:20260419T170424
CREATED:20160930T030024Z
LAST-MODIFIED:20161025T005116Z
UID:5319-1477872000-1477958399@micascottikole.com
SUMMARY:ENDING: Eric Gregory Awards for Poetry (UK)
DESCRIPTION:The Eric Gregory Awards for Poetry is a Periodic Web Contest for a poetry collection by British subjects under the age of 30. \nSubmit your poetry collection of up to 30 poems for a chance to win part of a $20\,000 prize pool. Authors must be British subjects by birth\, a resident of the UK or Northern Ireland\, and under the age of 30. \nThe deadline for submissions is October 31st\, 2016. The original information page for this Event can be found here with further details here. \nEric Gregory Awards Rules\n[list style=”style2″]\n[li]The author must be younger than 30 by March 31\, 2017.[/li]\n[li]The author must be a British subject by birth.[/li]\n[li]The author must be a resident of the UK or Northern Ireland. [/li]\n[li]Submissions must be typed.[/li]\n[li]Submit no more than 30 poems.[/li]\n[/list] \nShare this:Click to share on Twitter (Opens in new window)Click to share on LinkedIn (Opens in new window)Click to share on Facebook (Opens in new window)Click to print (Opens in new window)Like this:Like Loading...
URL:https://micascottikole.com/events/ending-eric-gregory-awards/
END:VEVENT
END:VCALENDAR