BEGIN:VCALENDAR
VERSION:2.0
PRODID:-//Mica Scotti Kole - ECPv5.2.0//NONSGML v1.0//EN
CALSCALE:GREGORIAN
METHOD:PUBLISH
X-WR-CALNAME:Mica Scotti Kole
X-ORIGINAL-URL:https://micascottikole.com
X-WR-CALDESC:Events for Mica Scotti Kole
BEGIN:VTIMEZONE
TZID:America/Detroit
BEGIN:DAYLIGHT
TZOFFSETFROM:-0500
TZOFFSETTO:-0400
TZNAME:EDT
DTSTART:20170312T070000
END:DAYLIGHT
BEGIN:STANDARD
TZOFFSETFROM:-0400
TZOFFSETTO:-0500
TZNAME:EST
DTSTART:20171105T060000
END:STANDARD
END:VTIMEZONE
BEGIN:VEVENT
DTSTART;VALUE=DATE:20170615
DTEND;VALUE=DATE:20170616
DTSTAMP:20260419T132850
CREATED:20170525T064652Z
LAST-MODIFIED:20170525T064652Z
UID:6943-1497484800-1497571199@micascottikole.com
SUMMARY:ENDING: Eleanor Taylor Bland Crime Fiction Writers of Color Award (Diverse)
DESCRIPTION:The Eleanor Taylor Bland Crime Fiction Writers of Color Award is for adult crime fiction of 2500-10\,000 words for a writer of color. Prize is a $1500 grant. \nMore info here. Sponsored by Sisters in Crime. \n— \nFind my events helpful?\nHere are ways you can support me: \n♠ Sign up for my once-a-month newsletter! \n♠ Comment on my blog! \n♠ Donate $1 on Patreon! \nShare this:Click to share on Twitter (Opens in new window)Click to share on LinkedIn (Opens in new window)Click to share on Facebook (Opens in new window)Click to print (Opens in new window)Like this:Like Loading...
URL:https://micascottikole.com/events/ending-eleanor-taylor-bland-crime-fiction-writers-color-award-diverse/
ATTACH;FMTTYPE=image/png:https://micascottikole.com/wp-content/uploads/2017/04/BG_ShortStory.png
END:VEVENT
END:VCALENDAR