BEGIN:VCALENDAR
VERSION:2.0
PRODID:-//Mica Scotti Kole - ECPv5.2.0//NONSGML v1.0//EN
CALSCALE:GREGORIAN
METHOD:PUBLISH
X-WR-CALNAME:Mica Scotti Kole
X-ORIGINAL-URL:https://micascottikole.com
X-WR-CALDESC:Events for Mica Scotti Kole
BEGIN:VTIMEZONE
TZID:America/Detroit
BEGIN:DAYLIGHT
TZOFFSETFROM:-0500
TZOFFSETTO:-0400
TZNAME:EDT
DTSTART:20180311T070000
END:DAYLIGHT
BEGIN:STANDARD
TZOFFSETFROM:-0400
TZOFFSETTO:-0500
TZNAME:EST
DTSTART:20181104T060000
END:STANDARD
END:VTIMEZONE
BEGIN:VEVENT
DTSTART;VALUE=DATE:20180731
DTEND;VALUE=DATE:20180801
DTSTAMP:20260419T150128
CREATED:20180628T034027Z
LAST-MODIFIED:20180628T190428Z
UID:9138-1532995200-1533081599@micascottikole.com
SUMMARY:ENDING: Dragonfly Tea Story Contest (UK) (Youth)
DESCRIPTION:The Dragonfly Tea Story Contest is for short stories up to 500 words by UK children aged 5-15 on the theme THE WILD GARDEN. Prize is a£50 voucher for each winner  per age category\, plus a £100 voucher for their school. \nMore info here. Hosted by Dragonfly Tea. \n  \nFree Writing Events offers budget editing services from $5-10!\nYou can also support FWE on Patreon to keep it ad-free. \nSee any errors? Have I missed an event?\nContact me! \nShare this:Click to share on Twitter (Opens in new window)Click to share on LinkedIn (Opens in new window)Click to share on Facebook (Opens in new window)Click to print (Opens in new window)Like this:Like Loading...
URL:https://micascottikole.com/events/ending-dragonfly-tea-story-contest-uk-youth/
ATTACH;FMTTYPE=image/png:https://micascottikole.com/wp-content/uploads/2017/04/BG_Youth.png
END:VEVENT
END:VCALENDAR