BEGIN:VCALENDAR
VERSION:2.0
PRODID:-//Mica Scotti Kole - ECPv5.2.0//NONSGML v1.0//EN
CALSCALE:GREGORIAN
METHOD:PUBLISH
X-WR-CALNAME:Mica Scotti Kole
X-ORIGINAL-URL:https://micascottikole.com
X-WR-CALDESC:Events for Mica Scotti Kole
BEGIN:VTIMEZONE
TZID:UTC
BEGIN:STANDARD
TZOFFSETFROM:+0000
TZOFFSETTO:+0000
TZNAME:UTC
DTSTART:20160101T000000
END:STANDARD
END:VTIMEZONE
BEGIN:VEVENT
DTSTART;VALUE=DATE:20160829
DTEND;VALUE=DATE:20160830
DTSTAMP:20260420T050827
CREATED:20160726T015649Z
LAST-MODIFIED:20160726T015649Z
UID:4969-1472428800-1472515199@micascottikole.com
SUMMARY:ENDING: Dragonfly Tea Contest (UK)
DESCRIPTION:The Dragonfly Tea Contest (UK) is a Periodic Web for UK residents only. \nSubmit a short story up to 3\,000 words on the theme of Discovery. Prizes include £1500\, £750\, and £250 for 1st\, 2nd\, and 3rd place respectively. Entries can be made online or by post. This contest is not open to authors who have been paid a fee for their work (prior contest winnings do not count as fees). The deadline for submission is 11:59pm BST on 8/29/16. \nThe original information page for this Event can be found here. \nDragonfly Tea Short Story Contest Rules\n[list style=”style2″]\n[li]Entrants must be 16 or older as of 8/26/16.[/li]\n[li]Your work cannot exceed 3000 words.[/li]\n[li]Your work must follow the “Discovery” theme.[/li]\n[li]Enter only if you are a UK resident.[/li]\n[li]Enter only if you have never been paid for your work.[/li]\n[li]Your work must be previously unpublished.[/li]\n[/list] \nShare this:Click to share on Twitter (Opens in new window)Click to share on LinkedIn (Opens in new window)Click to share on Facebook (Opens in new window)Click to print (Opens in new window)Like this:Like Loading...
URL:https://micascottikole.com/events/ending-dragonfly-tea-short-story-contest/
END:VEVENT
END:VCALENDAR