BEGIN:VCALENDAR
VERSION:2.0
PRODID:-//Mica Scotti Kole - ECPv5.2.0//NONSGML v1.0//EN
CALSCALE:GREGORIAN
METHOD:PUBLISH
X-WR-CALNAME:Mica Scotti Kole
X-ORIGINAL-URL:https://micascottikole.com
X-WR-CALDESC:Events for Mica Scotti Kole
BEGIN:VTIMEZONE
TZID:America/Detroit
BEGIN:DAYLIGHT
TZOFFSETFROM:-0500
TZOFFSETTO:-0400
TZNAME:EDT
DTSTART:20180311T070000
END:DAYLIGHT
BEGIN:STANDARD
TZOFFSETFROM:-0400
TZOFFSETTO:-0500
TZNAME:EST
DTSTART:20181104T060000
END:STANDARD
END:VTIMEZONE
BEGIN:VEVENT
DTSTART;VALUE=DATE:20181026
DTEND;VALUE=DATE:20181027
DTSTAMP:20260420T052828
CREATED:20180802T045057Z
LAST-MODIFIED:20180802T045057Z
UID:9243-1540512000-1540598399@micascottikole.com
SUMMARY:ENDING: Dinesh Allirajah Prize for Short Fiction (UK)
DESCRIPTION:The Dinesh Allirajah Prize for Short Fiction (UK) is for short fiction on the theme “Scent” of 2000-6000 words by UK authors. Prize is £500 (and 10 shortlisted authors will be featured in an ebook anthology). \nMore info here. Sponsored/Hosted by Comma Press. \nFree Writing Events offers budget editing services from $5-12!\nYou can also support FWE on Patreon to keep it ad-free. \nSee any errors? Have I missed an event?\nContact me! \nShare this:Click to share on Twitter (Opens in new window)Click to share on LinkedIn (Opens in new window)Click to share on Facebook (Opens in new window)Click to print (Opens in new window)Like this:Like Loading...
URL:https://micascottikole.com/events/ending-dinesh-allirajah-prize-short-fiction-uk/
ATTACH;FMTTYPE=image/png:https://micascottikole.com/wp-content/uploads/2017/04/BG_ShortStory.png
END:VEVENT
END:VCALENDAR