BEGIN:VCALENDAR
VERSION:2.0
PRODID:-//Mica Scotti Kole - ECPv5.2.0//NONSGML v1.0//EN
CALSCALE:GREGORIAN
METHOD:PUBLISH
X-WR-CALNAME:Mica Scotti Kole
X-ORIGINAL-URL:https://micascottikole.com
X-WR-CALDESC:Events for Mica Scotti Kole
BEGIN:VTIMEZONE
TZID:America/Detroit
BEGIN:DAYLIGHT
TZOFFSETFROM:-0500
TZOFFSETTO:-0400
TZNAME:EDT
DTSTART:20170312T070000
END:DAYLIGHT
BEGIN:STANDARD
TZOFFSETFROM:-0400
TZOFFSETTO:-0500
TZNAME:EST
DTSTART:20171105T060000
END:STANDARD
END:VTIMEZONE
BEGIN:VEVENT
DTSTART;VALUE=DATE:20171110
DTEND;VALUE=DATE:20171111
DTSTAMP:20260419T143400
CREATED:20171027T044049Z
LAST-MODIFIED:20171027T044049Z
UID:7881-1510272000-1510358399@micascottikole.com
SUMMARY:ENDING: Dau Short Story Prize for Emerging Writers (Short Story Pubbed)
DESCRIPTION:The Dau Short Story Prize for Emerging Writers is for an author’s first published short story\, which must be submitted by the publisher. Twelve prizes of $2000 go out\, and stories are printed in an anthology. \nMore info here and here. Hosted by PEN America. \n  \nFind my events helpful?\n Donate $1 on Patreon to keep me ad-free! \nShare this:Click to share on Twitter (Opens in new window)Click to share on LinkedIn (Opens in new window)Click to share on Facebook (Opens in new window)Click to print (Opens in new window)Like this:Like Loading...
URL:https://micascottikole.com/events/ending-dau-short-story-prize-emerging-writers-short-story-pubbed/
ATTACH;FMTTYPE=image/png:https://micascottikole.com/wp-content/uploads/2017/04/BG_Published.png
END:VEVENT
END:VCALENDAR