BEGIN:VCALENDAR
VERSION:2.0
PRODID:-//Mica Scotti Kole - ECPv5.2.0//NONSGML v1.0//EN
CALSCALE:GREGORIAN
METHOD:PUBLISH
X-WR-CALNAME:Mica Scotti Kole
X-ORIGINAL-URL:https://micascottikole.com
X-WR-CALDESC:Events for Mica Scotti Kole
BEGIN:VTIMEZONE
TZID:America/Detroit
BEGIN:DAYLIGHT
TZOFFSETFROM:-0500
TZOFFSETTO:-0400
TZNAME:EDT
DTSTART:20180311T070000
END:DAYLIGHT
BEGIN:STANDARD
TZOFFSETFROM:-0400
TZOFFSETTO:-0500
TZNAME:EST
DTSTART:20181104T060000
END:STANDARD
END:VTIMEZONE
BEGIN:VEVENT
DTSTART;VALUE=DATE:20180930
DTEND;VALUE=DATE:20181001
DTSTAMP:20260422T075535
CREATED:20171027T024451Z
LAST-MODIFIED:20180628T184200Z
UID:7858-1538265600-1538351999@micascottikole.com
SUMMARY:ENDING: Chicken Soup "Mom Knows Best" Submission Window
DESCRIPTION:This  Chicken Soup Submission Window is for nonfiction (personal essays or poems\, etc) up to 1200 words on the Chicken Soup for the Soul subject shown below: \nMom Knows Best (Stories about a Mother\, Stepmother\, or Grandmother) \nPrize is publication in a Chicken Soup for the Soul edition\, as well as $200 one month after publication of the book\, and ten free copies. \nMore info here and here. Sponsored by Chicken Soup for the Soul. \n  \n— \nFind my events helpful?\nHere are ways you can support me: \n♠ Sign up for my once-a-month newsletter! \n♠ Spread the word about my $5 query critique or $10 editing! \n♠ Donate $1 on Patreon to keep this ad-free! \nShare this:Click to share on Twitter (Opens in new window)Click to share on LinkedIn (Opens in new window)Click to share on Facebook (Opens in new window)Click to print (Opens in new window)Like this:Like Loading...
URL:https://micascottikole.com/events/ending-chicken-soup-stories-mom-submission-window/
ATTACH;FMTTYPE=image/png:https://micascottikole.com/wp-content/uploads/2017/04/BG_Various.png
END:VEVENT
END:VCALENDAR