BEGIN:VCALENDAR
VERSION:2.0
PRODID:-//Mica Scotti Kole - ECPv5.2.0//NONSGML v1.0//EN
CALSCALE:GREGORIAN
METHOD:PUBLISH
X-WR-CALNAME:Mica Scotti Kole
X-ORIGINAL-URL:https://micascottikole.com
X-WR-CALDESC:Events for Mica Scotti Kole
BEGIN:VTIMEZONE
TZID:America/Detroit
BEGIN:DAYLIGHT
TZOFFSETFROM:-0500
TZOFFSETTO:-0400
TZNAME:EDT
DTSTART:20180311T070000
END:DAYLIGHT
BEGIN:STANDARD
TZOFFSETFROM:-0400
TZOFFSETTO:-0500
TZNAME:EST
DTSTART:20181104T060000
END:STANDARD
END:VTIMEZONE
BEGIN:VEVENT
DTSTART;VALUE=DATE:20181031
DTEND;VALUE=DATE:20181101
DTSTAMP:20260418T111119
CREATED:20180927T060139Z
LAST-MODIFIED:20180927T060139Z
UID:9348-1540944000-1541030399@micascottikole.com
SUMMARY:ENDING: Burt Award for Caribbean Literature (Caribbean)
DESCRIPTION:The Burt Award for Caribbean Literature (Caribbean) is for YA literary fiction\, creative nonfiction\, short story collections\, and graphic novels of at least 80 pages/20\,000 words by Caribbean authors. Both unpublished and published work is accepted. Prize is C$2\,000-10\,000. \n More info. Sponsored/Hosted by Bocas Lit Fest. \nFree Writing Events offers budget editing services from $5-12!\nYou can also support FWE on Patreon to keep it ad-free. \nSee any errors? Have I missed an event?\nContact me! \nShare this:Click to share on Twitter (Opens in new window)Click to share on LinkedIn (Opens in new window)Click to share on Facebook (Opens in new window)Click to print (Opens in new window)Like this:Like Loading...
URL:https://micascottikole.com/events/ending-burt-award-caribbean-literature-caribbean-2/
ATTACH;FMTTYPE=image/png:https://micascottikole.com/wp-content/uploads/2017/04/BG_Various.png
END:VEVENT
END:VCALENDAR