BEGIN:VCALENDAR
VERSION:2.0
PRODID:-//Mica Scotti Kole - ECPv5.2.0//NONSGML v1.0//EN
CALSCALE:GREGORIAN
METHOD:PUBLISH
X-WR-CALNAME:Mica Scotti Kole
X-ORIGINAL-URL:https://micascottikole.com
X-WR-CALDESC:Events for Mica Scotti Kole
BEGIN:VTIMEZONE
TZID:America/Detroit
BEGIN:DAYLIGHT
TZOFFSETFROM:-0500
TZOFFSETTO:-0400
TZNAME:EDT
DTSTART:20180311T070000
END:DAYLIGHT
BEGIN:STANDARD
TZOFFSETFROM:-0400
TZOFFSETTO:-0500
TZNAME:EST
DTSTART:20181104T060000
END:STANDARD
END:VTIMEZONE
BEGIN:VEVENT
DTSTART;VALUE=DATE:20181031
DTEND;VALUE=DATE:20181101
DTSTAMP:20260420T130610
CREATED:20180829T054144Z
LAST-MODIFIED:20180829T054144Z
UID:9293-1540944000-1541030399@micascottikole.com
SUMMARY:ENDING: Benjamin Franklin House Prize (UK\, Age 18-25)
DESCRIPTION:The Benjamin Franklin House Prize (UK\, Age 18-25) is for short fiction of 1000-1500 words by UK authors aged 18-25. Prize is £500-£750 and online publication. Stories must explore the theme quote “Let all man know thee\, but no man know thee thoroughly” from Poor Richard\, 1743. \nMore info here. Sponsored/Hosted by Benjamin Franklin House and The Telegraph. \nFree Writing Events offers budget editing services from $5-12!\nYou can also support FWE on Patreon to keep it ad-free. \nSee any errors? Have I missed an event?\nContact me! \nShare this:Click to share on Twitter (Opens in new window)Click to share on LinkedIn (Opens in new window)Click to share on Facebook (Opens in new window)Click to print (Opens in new window)Like this:Like Loading...
URL:https://micascottikole.com/events/ending-benjamin-franklin-house-prize-uk-age-18-25/
ATTACH;FMTTYPE=image/png:https://micascottikole.com/wp-content/uploads/2017/04/BG_ShortStory.png
END:VEVENT
END:VCALENDAR