BEGIN:VCALENDAR
VERSION:2.0
PRODID:-//Mica Scotti Kole - ECPv5.2.0//NONSGML v1.0//EN
CALSCALE:GREGORIAN
METHOD:PUBLISH
X-WR-CALNAME:Mica Scotti Kole
X-ORIGINAL-URL:https://micascottikole.com
X-WR-CALDESC:Events for Mica Scotti Kole
BEGIN:VTIMEZONE
TZID:America/Detroit
BEGIN:DAYLIGHT
TZOFFSETFROM:-0500
TZOFFSETTO:-0400
TZNAME:EDT
DTSTART:20170312T070000
END:DAYLIGHT
BEGIN:STANDARD
TZOFFSETFROM:-0400
TZOFFSETTO:-0500
TZNAME:EST
DTSTART:20171105T060000
END:STANDARD
END:VTIMEZONE
BEGIN:VEVENT
DTSTART;VALUE=DATE:20170630
DTEND;VALUE=DATE:20170701
DTSTAMP:20260422T124634
CREATED:20170526T032736Z
LAST-MODIFIED:20170526T032736Z
UID:6987-1498780800-1498867199@micascottikole.com
SUMMARY:ENDING: BCSA Writing Competition
DESCRIPTION:The BCSA Writing Competition is for short fiction or nonfiction between 1500 and 2000 words in length related to topics: \n“on the links between Britain and the Czech/Slovak Republics (at any stage in their history)\, or describing society in transition in the Republics since 1989. Topics can include history\, politics\, the sciences\, economics\, the arts or literature. This year’s suggested (but not compulsory) theme is Brexit.” (Quoted from host site.) \nPrize is £300 and £100. \nMore info here. Hosted by the British Czech & Slovak Association. \n— \nFind my events helpful?\nHere are ways you can support me: \n♠ Sign up for my once-a-month newsletter! \n♠ Comment on my blog! \n♠ Donate $1 on Patreon! \nShare this:Click to share on Twitter (Opens in new window)Click to share on LinkedIn (Opens in new window)Click to share on Facebook (Opens in new window)Click to print (Opens in new window)Like this:Like Loading...
URL:https://micascottikole.com/events/ending-bcsa-writing-competition/
ATTACH;FMTTYPE=image/png:https://micascottikole.com/wp-content/uploads/2017/04/BG_Essay_ShortStory.png
END:VEVENT
END:VCALENDAR