BEGIN:VCALENDAR
VERSION:2.0
PRODID:-//Mica Scotti Kole - ECPv5.2.0//NONSGML v1.0//EN
CALSCALE:GREGORIAN
METHOD:PUBLISH
X-WR-CALNAME:Mica Scotti Kole
X-ORIGINAL-URL:https://micascottikole.com
X-WR-CALDESC:Events for Mica Scotti Kole
BEGIN:VTIMEZONE
TZID:America/Detroit
BEGIN:DAYLIGHT
TZOFFSETFROM:-0500
TZOFFSETTO:-0400
TZNAME:EDT
DTSTART:20170312T070000
END:DAYLIGHT
BEGIN:STANDARD
TZOFFSETFROM:-0400
TZOFFSETTO:-0500
TZNAME:EST
DTSTART:20171105T060000
END:STANDARD
END:VTIMEZONE
BEGIN:VEVENT
DTSTART;VALUE=DATE:20170616
DTEND;VALUE=DATE:20170617
DTSTAMP:20260418T233608
CREATED:20170525T063253Z
LAST-MODIFIED:20170525T063253Z
UID:6935-1497571200-1497657599@micascottikole.com
SUMMARY:ENDING: Baltimore Science Fiction Society Amateur Writing Contest (US: MD)
DESCRIPTION:The Baltimore Science Fiction Society Amateur Writing Contest is for stories of 1000-5500 words by a Maryland resident or college student in the genres of science fiction\, fantasy\, or horror. Prize is $250\, $100\, $50. Entrants must be over 18\,  not a member of the SFWA\, and unpublished in a professional SFF magazine. \nMore info here. Sponsored by Baltimore Science Fiction Society. \n— \nFind my events helpful?\nHere are ways you can support me: \n♠ Sign up for my once-a-month newsletter! \n♠ Comment on my blog! \n♠ Donate $1 on Patreon! \nShare this:Click to share on Twitter (Opens in new window)Click to share on LinkedIn (Opens in new window)Click to share on Facebook (Opens in new window)Click to print (Opens in new window)Like this:Like Loading...
URL:https://micascottikole.com/events/ending-baltimore-science-fiction-society-amateur-writing-contest-us-md/
ATTACH;FMTTYPE=image/png:https://micascottikole.com/wp-content/uploads/2017/04/BG_ShortStory.png
END:VEVENT
END:VCALENDAR