BEGIN:VCALENDAR
VERSION:2.0
PRODID:-//Mica Scotti Kole - ECPv5.2.0//NONSGML v1.0//EN
CALSCALE:GREGORIAN
METHOD:PUBLISH
X-WR-CALNAME:Mica Scotti Kole
X-ORIGINAL-URL:https://micascottikole.com
X-WR-CALDESC:Events for Mica Scotti Kole
BEGIN:VTIMEZONE
TZID:America/Detroit
BEGIN:DAYLIGHT
TZOFFSETFROM:-0500
TZOFFSETTO:-0400
TZNAME:EDT
DTSTART:20170312T070000
END:DAYLIGHT
BEGIN:STANDARD
TZOFFSETFROM:-0400
TZOFFSETTO:-0500
TZNAME:EST
DTSTART:20171105T060000
END:STANDARD
END:VTIMEZONE
BEGIN:VEVENT
DTSTART;VALUE=DATE:20171005
DTEND;VALUE=DATE:20171006
DTSTAMP:20260417T140240
CREATED:20170829T012820Z
LAST-MODIFIED:20170829T012820Z
UID:7512-1507161600-1507247999@micascottikole.com
SUMMARY:ENDING: American Antiquarian Fellowship
DESCRIPTION:The American Antiquarian Fellowship is for poets\, fiction writers\, and creative nonfiction writers. Screenplays and other styles may also be accepted. Prize is a one-month residency in Massachusetts including room and board and a $1150 stipend. \nMore info here. Hosted by the American Antiquarian Society. \n— \nFind my events helpful?\nHere are ways you can support me: \n♠ Sign up for my once-a-month newsletter! \n♠ Spread the word about my $5 query critique or $10 editing! \n♠ Donate $1 on Patreon to keep this ad-free! \nShare this:Click to share on Twitter (Opens in new window)Click to share on LinkedIn (Opens in new window)Click to share on Facebook (Opens in new window)Click to print (Opens in new window)Like this:Like Loading...
URL:https://micascottikole.com/events/ending-american-antiquarian-fellowship/
ATTACH;FMTTYPE=image/png:https://micascottikole.com/wp-content/uploads/2017/04/BG_Fellowship.png
END:VEVENT
END:VCALENDAR