BEGIN:VCALENDAR
VERSION:2.0
PRODID:-//Mica Scotti Kole - ECPv5.2.0//NONSGML v1.0//EN
CALSCALE:GREGORIAN
METHOD:PUBLISH
X-WR-CALNAME:Mica Scotti Kole
X-ORIGINAL-URL:https://micascottikole.com
X-WR-CALDESC:Events for Mica Scotti Kole
BEGIN:VTIMEZONE
TZID:America/Detroit
BEGIN:DAYLIGHT
TZOFFSETFROM:-0500
TZOFFSETTO:-0400
TZNAME:EDT
DTSTART:20200308T070000
END:DAYLIGHT
BEGIN:STANDARD
TZOFFSETFROM:-0400
TZOFFSETTO:-0500
TZNAME:EST
DTSTART:20201101T060000
END:STANDARD
END:VTIMEZONE
BEGIN:VEVENT
DTSTART;VALUE=DATE:20200215
DTEND;VALUE=DATE:20200216
DTSTAMP:20260422T043344
CREATED:20200108T041254Z
LAST-MODIFIED:20200108T041254Z
UID:10642-1581724800-1581811199@micascottikole.com
SUMMARY:ENDING: Ambroggio Prize
DESCRIPTION:The Ambroggio Prize is for poetry manuscripts of 48 to 100 pages by any author. Prize is $1\,000.   \nMore info here.  Sponsored/Hosted by American Academy of Poets. \nFree Writing Events offers budget editing services from $5! \nShare this:Click to share on Twitter (Opens in new window)Click to share on LinkedIn (Opens in new window)Click to share on Facebook (Opens in new window)Click to print (Opens in new window)Like this:Like Loading...
URL:https://micascottikole.com/events/ending-ambroggio-prize/
ATTACH;FMTTYPE=image/png:https://micascottikole.com/wp-content/uploads/2017/04/BG_poetry.png
END:VEVENT
END:VCALENDAR