BEGIN:VCALENDAR
VERSION:2.0
PRODID:-//Mica Scotti Kole - ECPv5.2.0//NONSGML v1.0//EN
CALSCALE:GREGORIAN
METHOD:PUBLISH
X-WR-CALNAME:Mica Scotti Kole
X-ORIGINAL-URL:https://micascottikole.com
X-WR-CALDESC:Events for Mica Scotti Kole
BEGIN:VTIMEZONE
TZID:America/Detroit
BEGIN:DAYLIGHT
TZOFFSETFROM:-0500
TZOFFSETTO:-0400
TZNAME:EDT
DTSTART:20170312T070000
END:DAYLIGHT
BEGIN:STANDARD
TZOFFSETFROM:-0400
TZOFFSETTO:-0500
TZNAME:EST
DTSTART:20171105T060000
END:STANDARD
END:VTIMEZONE
BEGIN:VEVENT
DTSTART;VALUE=DATE:20170519
DTEND;VALUE=DATE:20170520
DTSTAMP:20260421T122320
CREATED:20170420T204851Z
LAST-MODIFIED:20170420T204851Z
UID:6727-1495152000-1495238399@micascottikole.com
SUMMARY:ENDING: Amazon Storyteller Contest
DESCRIPTION:The Amazon Storyteller Contest is for previously-unpublished books and novellas over 5\,000 words. The prize is £20\,000 and an Amazon UK marketing campaign. The contest is open to anyone above the age of 18 who publishes with Amazon UK through Kindle Direct Publishing. It does not look like you must be a UK resident to win. The winner is determined by a combination of ratings\, sales\, and judges\, so the quicker you publish\, the better. \nMore info here and here. Sponsored by Amazon UK. \nShare this:Click to share on Twitter (Opens in new window)Click to share on LinkedIn (Opens in new window)Click to share on Facebook (Opens in new window)Click to print (Opens in new window)Like this:Like Loading...
URL:https://micascottikole.com/events/ending-amazon-storyteller-contest/
ATTACH;FMTTYPE=image/png:https://micascottikole.com/wp-content/uploads/2017/04/BG_Other.png
END:VEVENT
END:VCALENDAR