BEGIN:VCALENDAR
VERSION:2.0
PRODID:-//Mica Scotti Kole - ECPv5.2.0//NONSGML v1.0//EN
CALSCALE:GREGORIAN
METHOD:PUBLISH
X-WR-CALNAME:Mica Scotti Kole
X-ORIGINAL-URL:https://micascottikole.com
X-WR-CALDESC:Events for Mica Scotti Kole
BEGIN:VTIMEZONE
TZID:UTC
BEGIN:STANDARD
TZOFFSETFROM:+0000
TZOFFSETTO:+0000
TZNAME:UTC
DTSTART:20160101T000000
END:STANDARD
END:VTIMEZONE
BEGIN:VEVENT
DTSTART;VALUE=DATE:20161231
DTEND;VALUE=DATE:20170101
DTSTAMP:20260420T095408
CREATED:20160819T010000Z
LAST-MODIFIED:20161025T004454Z
UID:4986-1483142400-1483228799@micascottikole.com
SUMMARY:ENDING: Year's Best YA Speculative Submission
DESCRIPTION:The Year’s Best YA Speculative is a Periodic Web Submission Window for YA speculative short fiction previously published in 2016. \nSubmit your 2016-published YA speculative short stories for a chance to be published in Twelfth Planet’s Year’s Best YA Speculative Anthology.  The prize is publication and a $100-200 advance on royalties for the anthology. Speculative fiction in this case is defined as: \n“…science fiction\, fantasy\, horror and crime. We will consider borderline literary\, new weird\, steampunk\, space opera\, hard science fiction\, soft science fiction\, urban fantasy\, cyberpunk\, military science fiction\, young adult\, paranormal romance and everything in between. We are interested in serialised works… Please note we are not looking for epic fantasy\, splatterpunk\, poetry\, short story collections\, previously digitally published material (ie on your blog\, self published ebook\, etc) and unfinished work.” -Submission Site \nThe submission deadline is 12/31/16. \nThe original information page and submission guidelines can be found here. \nYear’s Best YA Speculative Rules\n[list style=”style2″]\n[li]Entrants must be at least 18 years old by 11/1/16.[/li]\n[li]Entries must be at least 65\,000 words.[/li]\n[li]Submit only one entry.[/li]\n[li]Your work must be original and unpublished.[/li]\n[li]You must be a traditionally unpublished author.[/li]\n[li]Murder or another serious crime must be at the heart of the story.[/li]\n[/list] \nShare this:Click to share on Twitter (Opens in new window)Click to share on LinkedIn (Opens in new window)Click to share on Facebook (Opens in new window)Click to print (Opens in new window)Like this:Like Loading...
URL:https://micascottikole.com/events/ending-2/
END:VEVENT
END:VCALENDAR