BEGIN:VCALENDAR
VERSION:2.0
PRODID:-//Mica Scotti Kole - ECPv5.2.0//NONSGML v1.0//EN
CALSCALE:GREGORIAN
METHOD:PUBLISH
X-WR-CALNAME:Mica Scotti Kole
X-ORIGINAL-URL:https://micascottikole.com
X-WR-CALDESC:Events for Mica Scotti Kole
BEGIN:VTIMEZONE
TZID:UTC
BEGIN:STANDARD
TZOFFSETFROM:+0000
TZOFFSETTO:+0000
TZNAME:UTC
DTSTART:20160101T000000
END:STANDARD
END:VTIMEZONE
BEGIN:VEVENT
DTSTART;VALUE=DATE:20160810
DTEND;VALUE=DATE:20160811
DTSTAMP:20260425T101035
CREATED:20160725T234348Z
LAST-MODIFIED:20160727T032323Z
UID:4939-1470787200-1470873599@micascottikole.com
SUMMARY:#CanLitPit Pitch Party
DESCRIPTION:#CanLitPit is a Periodic Twitter Pitch Event aimed at Canadian authors only. \nPitch your book in 140 characters with the hashtag #CanLitPit and your genre/age hashtags. If you are Liked by an agent or editor\, consider it an official request for a query! Look up their submission guidelines through their Twitter page or website. \nThe event runs from 10am – 10pm EST on 8/10/16. \nThe hosts for this Event is the DigiWriting website. To see the original information page for this Event\, click here. \n#CanLitPit Rules\n[list style=”style2″]\n[li]Do not Like or Retweet other people’s pitches.[/li]\n[li]Participate only if you have a complete\, polished\, and unpublished manuscript.[/li]\n[li]Pitch only six times total per project.[/li]\n[li]Pitch only if you are a Canadian citizen.[/li]\n[li]Don’t Tweet agents directly unless they Tweet you first.[/li]\n[/list] \nShare this:Click to share on Twitter (Opens in new window)Click to share on LinkedIn (Opens in new window)Click to share on Facebook (Opens in new window)Click to print (Opens in new window)Like this:Like Loading...
URL:https://micascottikole.com/events/canlitpit-pitch-party/
END:VEVENT
END:VCALENDAR