BEGIN:VCALENDAR
VERSION:2.0
PRODID:-//Mica Scotti Kole - ECPv5.2.0//NONSGML v1.0//EN
CALSCALE:GREGORIAN
METHOD:PUBLISH
X-WR-CALNAME:Mica Scotti Kole
X-ORIGINAL-URL:https://micascottikole.com
X-WR-CALDESC:Events for Mica Scotti Kole
BEGIN:VTIMEZONE
TZID:America/Detroit
BEGIN:DAYLIGHT
TZOFFSETFROM:-0500
TZOFFSETTO:-0400
TZNAME:EDT
DTSTART:20170312T070000
END:DAYLIGHT
BEGIN:STANDARD
TZOFFSETFROM:-0400
TZOFFSETTO:-0500
TZNAME:EST
DTSTART:20171105T060000
END:STANDARD
END:VTIMEZONE
BEGIN:VEVENT
DTSTART;VALUE=DATE:20171031
DTEND;VALUE=DATE:20171101
DTSTAMP:20260422T172150
CREATED:20170227T234654Z
LAST-MODIFIED:20170417T183717Z
UID:6213-1509408000-1509494399@micascottikole.com
SUMMARY:ENDING: Benjamin Franklin House Literary Prize (UK)(18-25)
DESCRIPTION:The Benjamin Franklin House Literary Prize is for short stories by UK authors aged 18-25 on the following Benjamin Franklin quote: \n“If you would not be forgotten\, As soon as you are dead and rotten\, either write things worth reading\, or do things worth the writing.” Poor Richard\, 1738 \nWork must be between 1000 and 1500 words. First prize is £750 and second prize is £500\, in addition to online publication on multiple sites. One entry per person. \nMore information can be found here. This event is sponsored by Benjamin Franklin House. \nShare this:Click to share on Twitter (Opens in new window)Click to share on LinkedIn (Opens in new window)Click to share on Facebook (Opens in new window)Click to print (Opens in new window)Like this:Like Loading...
URL:https://micascottikole.com/events/benjamin-franklin-house-literary-prize/
ATTACH;FMTTYPE=image/png:https://micascottikole.com/wp-content/uploads/2017/04/BG_ShortStory.png
END:VEVENT
END:VCALENDAR