BEGIN:VCALENDAR
VERSION:2.0
PRODID:-//Mica Scotti Kole - ECPv5.2.0//NONSGML v1.0//EN
CALSCALE:GREGORIAN
METHOD:PUBLISH
X-WR-CALNAME:Mica Scotti Kole
X-ORIGINAL-URL:https://micascottikole.com
X-WR-CALDESC:Events for Mica Scotti Kole
BEGIN:VTIMEZONE
TZID:America/Detroit
BEGIN:DAYLIGHT
TZOFFSETFROM:-0500
TZOFFSETTO:-0400
TZNAME:EDT
DTSTART:20170312T070000
END:DAYLIGHT
BEGIN:STANDARD
TZOFFSETFROM:-0400
TZOFFSETTO:-0500
TZNAME:EST
DTSTART:20171105T060000
END:STANDARD
END:VTIMEZONE
BEGIN:VEVENT
DTSTART;VALUE=DATE:20170208
DTEND;VALUE=DATE:20170209
DTSTAMP:20260422T185858
CREATED:20161223T195553Z
LAST-MODIFIED:20161223T195553Z
UID:5796-1486512000-1486598399@micascottikole.com
SUMMARY:ENDING: Wattpad Battle the Beast Contest
DESCRIPTION:Wattpad’s Battle the Beast Contest is for a short story up to 1500 words based on Lev Grossman’s The Magicians. \nSummary\nIn the book and T.V. show The Magicians\, readers find out (spoiler alert!) that the main character has gone up against his ultimate foe–the Beast–forty times\, due to a time reversal spell. This contest asks Wattpad writers to create a short story set in one of those other 39 adventures. Lev Grossman himself will be a judge (alongside a Wattpad panel)\, and the winning story will become a digital short and win a grand prize of $10\,000. The deadline for submission is February 9th at 2:59am EST/ 7:59am GMT. \nLinks\nThe original informational page for this Event can be found here. It is hosted by Wattpad. You can follow the conversation on Twitter on the hashtag #BattleTheBeast. \nRules\n[list style=”style2″]\n[li]Follow contest guidelines.[/li]\n[li]Story cannot exceed 1500 words.[/li]\n[li]Story must be in English.[/li]\n[li]Entrants must be U.S. citizens.[/li]\n[li]Entrants must be 18 or older.[/li]\n[/list] \nShare this:Click to share on Twitter (Opens in new window)Click to share on LinkedIn (Opens in new window)Click to share on Facebook (Opens in new window)Click to print (Opens in new window)Like this:Like Loading...
URL:https://micascottikole.com/events/battle-beast-contest/
END:VEVENT
END:VCALENDAR