BEGIN:VCALENDAR
VERSION:2.0
PRODID:-//Mica Scotti Kole - ECPv5.2.0//NONSGML v1.0//EN
CALSCALE:GREGORIAN
METHOD:PUBLISH
X-WR-CALNAME:Mica Scotti Kole
X-ORIGINAL-URL:https://micascottikole.com
X-WR-CALDESC:Events for Mica Scotti Kole
BEGIN:VTIMEZONE
TZID:America/Detroit
BEGIN:DAYLIGHT
TZOFFSETFROM:-0500
TZOFFSETTO:-0400
TZNAME:EDT
DTSTART:20170312T070000
END:DAYLIGHT
BEGIN:STANDARD
TZOFFSETFROM:-0400
TZOFFSETTO:-0500
TZNAME:EST
DTSTART:20171105T060000
END:STANDARD
END:VTIMEZONE
BEGIN:VEVENT
DTSTART;VALUE=DATE:20170201
DTEND;VALUE=DATE:20170202
DTSTAMP:20260422T072352
CREATED:20170114T165136Z
LAST-MODIFIED:20170114T165136Z
UID:5923-1485907200-1485993599@micascottikole.com
SUMMARY:ENDING: Hart Crane Memorial Poetry Contest
DESCRIPTION:The Hart Crane Memorial Poetry Contest is for poems. Short stories and essays will also be accepted as submissions to the magazine\, but will not be considered for the contest. \nSummary\nFor the contest\, submit up to two poems of any style or subject up to 750 words. For other submissions\, submit essays or short stories up to 750 words for consideration in ICON Magazine. Prizes for the award are not listed on the host site. Deadline for submissions is February 1st\, 2017. \nLinks\nThe submission form and original page for this event can be found here. It is hosted by Kent Stat University. \nRules\n[list style=”style2″]\n[li]Works must not exceed 750 words.[/li]\n[li]Works must be previously unpublished.[/li]\n[li]See site for full details.[/li]\n[/list] \nShare this:Click to share on Twitter (Opens in new window)Click to share on LinkedIn (Opens in new window)Click to share on Facebook (Opens in new window)Click to print (Opens in new window)Like this:Like Loading...
URL:https://micascottikole.com/events/5923/
END:VEVENT
END:VCALENDAR