BEGIN:VCALENDAR
VERSION:2.0
PRODID:-//Mica Scotti Kole - ECPv5.2.0//NONSGML v1.0//EN
CALSCALE:GREGORIAN
METHOD:PUBLISH
X-WR-CALNAME:Mica Scotti Kole
X-ORIGINAL-URL:https://micascottikole.com
X-WR-CALDESC:Events for Mica Scotti Kole
BEGIN:VTIMEZONE
TZID:America/Detroit
BEGIN:DAYLIGHT
TZOFFSETFROM:-0500
TZOFFSETTO:-0400
TZNAME:EDT
DTSTART:20170312T070000
END:DAYLIGHT
BEGIN:STANDARD
TZOFFSETFROM:-0400
TZOFFSETTO:-0500
TZNAME:EST
DTSTART:20171105T060000
END:STANDARD
END:VTIMEZONE
BEGIN:VEVENT
DTSTART;VALUE=DATE:20170210
DTEND;VALUE=DATE:20170211
DTSTAMP:20260422T221556
CREATED:20161213T002310Z
LAST-MODIFIED:20170209T204412Z
UID:5688-1486684800-1486771199@micascottikole.com
SUMMARY:ENDING: ProEssayWriting Challenge
DESCRIPTION:The ProEssayWriting Challenge is for essays of 800-1000 words on one of several prompts given. \nSummary\nYou may choose one of the following topics: \n\nTeleported to 2050: What Will Education Look Like?\nIs Google a Relevant Source of Knowledge?\nThe Problems of Academic Writing: Why Do Students Struggle With It?\nThe Problem with Common Core Standards: Same Expectations from Different Students\nThe Role of Parents in the Educational Process\nPros and Cons of Online Learning: Is It Taking the Educational System in the Right Direction?\nStudent Disrespect for Teachers: Causes and Effects\n\nSubmit essays via email. Prizes are as follows: (1st – $1000) (2nd – $500) (3rd – $250). Deadline for entries is February 10th\, 2017. \nLinks\nThe original information page for this Event\, including full guidelines\, can be found here. It is hosted by Pro Essay Writing. \nRules\n[list style=”style2″]\n[li]Entries must follow ONE of the given topics.[/li]\n[li]Entries must be 800-1000 words.[/li]\n[li]Submit according to site guidelines.[/li]\n[/list] \nShare this:Click to share on Twitter (Opens in new window)Click to share on LinkedIn (Opens in new window)Click to share on Facebook (Opens in new window)Click to print (Opens in new window)Like this:Like Loading...
URL:https://micascottikole.com/events/5688/
END:VEVENT
END:VCALENDAR