BEGIN:VCALENDAR
VERSION:2.0
PRODID:-//Mica Scotti Kole - ECPv5.2.0//NONSGML v1.0//EN
CALSCALE:GREGORIAN
METHOD:PUBLISH
X-WR-CALNAME:Mica Scotti Kole
X-ORIGINAL-URL:https://micascottikole.com
X-WR-CALDESC:Events for Mica Scotti Kole
BEGIN:VTIMEZONE
TZID:America/Detroit
BEGIN:DAYLIGHT
TZOFFSETFROM:-0500
TZOFFSETTO:-0400
TZNAME:EDT
DTSTART:20160313T070000
END:DAYLIGHT
BEGIN:STANDARD
TZOFFSETFROM:-0400
TZOFFSETTO:-0500
TZNAME:EST
DTSTART:20161106T060000
END:STANDARD
END:VTIMEZONE
BEGIN:VEVENT
DTSTART;VALUE=DATE:20161213
DTEND;VALUE=DATE:20161214
DTSTAMP:20260422T090008
CREATED:20161212T200015Z
LAST-MODIFIED:20161212T200950Z
UID:5666-1481587200-1481673599@micascottikole.com
SUMMARY:Sub It Club Pitch Day
DESCRIPTION:The Sub It Club Pitch Day is a Blog Pitch Event. Accepted genres include memoir\, women’s fiction\, historical fiction\, mystery/suspense\, romance\, literary fiction\, and more. \nSummary\nPitch your book to agent Elizabeth Winick Rubenstein directly on the Sub It Club blog! The agent will request more material from any of the pitches that pique her interest. Please make sure it is in one of the genres listed above. Post your pitch between 9-10am EST on December 13th. \nLinks\nThe original information page for this Event\, including full guidelines\, can be found here. It is hosted by @SubItClub. \nRules\n[list style=”style2″]\n[li]Entries must be complete and polished manuscripts.[/li]\n[li]Submit according to site guidelines.[/li]\n[/list] \nShare this:Click to share on Twitter (Opens in new window)Click to share on LinkedIn (Opens in new window)Click to share on Facebook (Opens in new window)Click to print (Opens in new window)Like this:Like Loading...
URL:https://micascottikole.com/events/5666/
END:VEVENT
END:VCALENDAR