BEGIN:VCALENDAR
VERSION:2.0
PRODID:-//Mica Scotti Kole - ECPv5.2.0//NONSGML v1.0//EN
CALSCALE:GREGORIAN
METHOD:PUBLISH
X-WR-CALNAME:Mica Scotti Kole
X-ORIGINAL-URL:https://micascottikole.com
X-WR-CALDESC:Events for Mica Scotti Kole
BEGIN:VTIMEZONE
TZID:America/Detroit
BEGIN:DAYLIGHT
TZOFFSETFROM:-0500
TZOFFSETTO:-0400
TZNAME:EDT
DTSTART:20160313T070000
END:DAYLIGHT
BEGIN:STANDARD
TZOFFSETFROM:-0400
TZOFFSETTO:-0500
TZNAME:EST
DTSTART:20161106T060000
END:STANDARD
END:VTIMEZONE
BEGIN:VEVENT
DTSTART;VALUE=DATE:20161215
DTEND;VALUE=DATE:20161216
DTSTAMP:20260422T085942
CREATED:20161211T224502Z
LAST-MODIFIED:20161211T224502Z
UID:5656-1481760000-1481846399@micascottikole.com
SUMMARY:ENDING: Digital Fiction Writing Competition
DESCRIPTION:The Digital Fiction Writing Competition is for fiction intended to be read and/or played on a digital device. \nSummary\nSubmit your digital fiction via online submission form. Digital fiction is described as follows: \n“Rather than existing as a digital version of a print novel\, digital fictions are what are known as “born digital” – that is\, they would lose something of their form and/or meaning if they were removed from the digital medium. For example\, they may contain hyperlinks\, moving images\, mini-games or sound effects. In many digital fictions\, the reader has a role in constructing the narrative\, either by selecting hyperlinks or by controlling a character’s journey through the storyworld. Digital fictions therefore require that the reader interacts with the narrative throughout the reading experience. Hypertexts\, text-adventure games\, multimedia stories\, interactive video\, literary games\, and some mobile apps are all examples of types of digital fiction.” \nPrizes are per category (Judges’ Prize\, People’s Choice\, Welsh Language Prize\, Student Prize\, Children’s Story Prize). Winners in each category receive £300\, publication\, and professional mentoring on a future project. The deadline for submission is December 15th\, 2016. \nLinks\nThe original information page for this Event\, including full guidelines\, can be found here. It is hosted by Reading Digital Fiction. \nRules\n[list style=”style2″]\n[li]Entries must be in English or Welsh.[/li]\n[li]Submit according to site guidelines.[/li]\n[/list] \nShare this:Click to share on Twitter (Opens in new window)Click to share on LinkedIn (Opens in new window)Click to share on Facebook (Opens in new window)Click to print (Opens in new window)Like this:Like Loading...
URL:https://micascottikole.com/events/5656/
END:VEVENT
END:VCALENDAR