BEGIN:VCALENDAR
VERSION:2.0
PRODID:-//Mica Scotti Kole - ECPv5.2.0//NONSGML v1.0//EN
CALSCALE:GREGORIAN
METHOD:PUBLISH
X-WR-CALNAME:Mica Scotti Kole
X-ORIGINAL-URL:https://micascottikole.com
X-WR-CALDESC:Events for Mica Scotti Kole
BEGIN:VTIMEZONE
TZID:America/Detroit
BEGIN:DAYLIGHT
TZOFFSETFROM:-0500
TZOFFSETTO:-0400
TZNAME:EDT
DTSTART:20190310T070000
END:DAYLIGHT
BEGIN:STANDARD
TZOFFSETFROM:-0400
TZOFFSETTO:-0500
TZNAME:EST
DTSTART:20191103T060000
END:STANDARD
END:VTIMEZONE
BEGIN:VEVENT
DTSTART;VALUE=DATE:20190516
DTEND;VALUE=DATE:20190517
DTSTAMP:20260421T143256
CREATED:20190328T064027Z
LAST-MODIFIED:20190328T064027Z
UID:9984-1557964800-1558051199@micascottikole.com
SUMMARY:ENDING: Science Me A Story
DESCRIPTION:The Science Me A Story is for scientific stories for children (ages 6-12) of up to 4 pages by authors over age 18. Prize is £150\, £100 or £50. Stories can be in English or Spanish.  \nMore info here.  Sponsored/Hosted by the Society of Spanish Researchers. \nFree Writing Events offers budget editing services from $5! \nSee any errors? Have I missed an event?\nContact me!
URL:https://micascottikole.com/events/ending-science-story/
ATTACH;FMTTYPE=image/png:https://micascottikole.com/wp-content/uploads/2017/04/BG_ShortStory.png
END:VEVENT
END:VCALENDAR