BEGIN:VCALENDAR
VERSION:2.0
PRODID:-//Mica Scotti Kole - ECPv5.2.0//NONSGML v1.0//EN
CALSCALE:GREGORIAN
METHOD:PUBLISH
X-WR-CALNAME:Mica Scotti Kole
X-ORIGINAL-URL:https://micascottikole.com
X-WR-CALDESC:Events for Mica Scotti Kole
BEGIN:VTIMEZONE
TZID:America/Detroit
BEGIN:DAYLIGHT
TZOFFSETFROM:-0500
TZOFFSETTO:-0400
TZNAME:EDT
DTSTART:20180311T070000
END:DAYLIGHT
BEGIN:STANDARD
TZOFFSETFROM:-0400
TZOFFSETTO:-0500
TZNAME:EST
DTSTART:20181104T060000
END:STANDARD
END:VTIMEZONE
BEGIN:VEVENT
DTSTART;VALUE=DATE:20180912
DTEND;VALUE=DATE:20180915
DTSTAMP:20260422T072820
CREATED:20180711T022553Z
LAST-MODIFIED:20180811T023747Z
UID:9191-1536710400-1536969599@micascottikole.com
SUMMARY:SavvyAuthors Online Conference
DESCRIPTION:The 2018 SavvyAuthors Online Conference is September 12-14th and will offer free mini-intensives\, digital workshops\, contests and prizes\, and chances to pitch agents and editors. \nMore info here. (Some have had trouble reaching the link. Please try a new browser or try navigating the home site from here.) Hosted by SavvyAuthors. \n  \nFree Writing Events offers budget editing services from $5-10!\nYou can also support FWE on Patreon to keep it ad-free. \nSee any errors? Have I missed an event?\nContact me!
URL:https://micascottikole.com/events/savvyauthors-online-conference/
ATTACH;FMTTYPE=image/png:https://micascottikole.com/wp-content/uploads/2017/04/BG_Conference.png
END:VEVENT
END:VCALENDAR