BEGIN:VCALENDAR
VERSION:2.0
PRODID:-//Mica Scotti Kole - ECPv5.2.0//NONSGML v1.0//EN
CALSCALE:GREGORIAN
METHOD:PUBLISH
X-WR-CALNAME:Mica Scotti Kole
X-ORIGINAL-URL:https://micascottikole.com
X-WR-CALDESC:Events for Mica Scotti Kole
BEGIN:VTIMEZONE
TZID:America/Detroit
BEGIN:DAYLIGHT
TZOFFSETFROM:-0500
TZOFFSETTO:-0400
TZNAME:EDT
DTSTART:20180311T070000
END:DAYLIGHT
BEGIN:STANDARD
TZOFFSETFROM:-0400
TZOFFSETTO:-0500
TZNAME:EST
DTSTART:20181104T060000
END:STANDARD
END:VTIMEZONE
BEGIN:VEVENT
DTSTART;VALUE=DATE:20180730
DTEND;VALUE=DATE:20180802
DTSTAMP:20260422T104715
CREATED:20180731T014201Z
LAST-MODIFIED:20180731T014201Z
UID:9199-1532908800-1533167999@micascottikole.com
SUMMARY:3x3 Writing Challenge
DESCRIPTION:The 3×3 Writing Challenge is a live Facebook event. Write a story/poem/blog post a day and win these prizes: \n-Coaching session with @saracconnell ($500 value)\n-21-Day Writing Boot Camp ($997 value)\n-And more! \nMore info here. Hosted by Sara Connell. \nFree Writing Events offers budget editing services from $5-10!\nYou can also support FWE on Patreon to keep it ad-free. \nSee any errors? Have I missed an event?\nContact me!
URL:https://micascottikole.com/events/3x3-writing-challenge/
ATTACH;FMTTYPE=image/png:https://micascottikole.com/wp-content/uploads/2017/04/BG_Event.png
END:VEVENT
BEGIN:VEVENT
DTSTART;VALUE=DATE:20180801
DTEND;VALUE=DATE:20180802
DTSTAMP:20260422T104715
CREATED:20180628T025120Z
LAST-MODIFIED:20180628T025120Z
UID:9132-1533081600-1533167999@micascottikole.com
SUMMARY:ENDING: Goodwin/Gahagen Irish Poetry Prizes
DESCRIPTION:The Goodwin/Gahagen Irish Poetry Prizes are for poems that reflect Irish or Irish-American poetic traditions. Prize is $100. \nMore info here. Hosted by Milwaukee Irish Fest. \n  \nFree Writing Events offers budget editing services from $5-10!\nYou can also support FWE on Patreon to keep it ad-free. \nSee any errors? Have I missed an event?\nContact me!
URL:https://micascottikole.com/events/ending-goodwin-gahagen-irish-poetry-prizes/
ATTACH;FMTTYPE=image/png:https://micascottikole.com/wp-content/uploads/2017/04/BG_poetry.png
END:VEVENT
BEGIN:VEVENT
DTSTART;VALUE=DATE:20180801
DTEND;VALUE=DATE:20180802
DTSTAMP:20260422T104715
CREATED:20180628T035759Z
LAST-MODIFIED:20180628T040246Z
UID:9146-1533081600-1533167999@micascottikole.com
SUMMARY:ENDING: Delaware Artists Grants (USA: Delaware)
DESCRIPTION:The Delaware Artists Grants are for Delaware writers of poetry\, fiction\, and creative nonfiction. College students are ineligible. Submit 15-20 pages of work. Several fellowships of $6000 and $3000 are available. \nMore info here. Hosted by Delaware Division of the Arts. \n  \nBONUS CONTEST: If you are a Delaware fiction/creative nonfiction author who is a woman\, transsexual\, transgender\, genderqueer\, or otherwise gender-nonconforming–and if you live in Bucks\, Camden\, Chester\, Delaware\, Montgomery\, or Philadelphia counties–check out this contest to compete for a $2500 grant. \n  \nFree Writing Events offers budget editing services from $5-10!\nYou can also support FWE on Patreon to keep it ad-free. \nSee any errors? Have I missed an event?\nContact me!
URL:https://micascottikole.com/events/ending-delaware-artists-grants-usa-delaware/
ATTACH;FMTTYPE=image/png:https://micascottikole.com/wp-content/uploads/2017/04/BG_Various.png
END:VEVENT
BEGIN:VEVENT
DTSTART;VALUE=DATE:20180801
DTEND;VALUE=DATE:20180802
DTSTAMP:20260422T104715
CREATED:20180628T041121Z
LAST-MODIFIED:20180628T041121Z
UID:9144-1533081600-1533167999@micascottikole.com
SUMMARY:ENDING: Let's Talk Emoticon Flash Fiction Contest
DESCRIPTION:The Let’s Talk Emoticon Flash Fiction Contest is for flash fiction that interprets a list of emoticons from this blog post. Prize is a $50 Amazon gift card. \nMore info here. Sponsored by Mariel R. \n  \nFree Writing Events offers budget editing services from $5-10!\nYou can also support FWE on Patreon to keep it ad-free. \nSee any errors? Have I missed an event?\nContact me!
URL:https://micascottikole.com/events/ending-lets-talk-emoticon-flash-fiction-contest/
ATTACH;FMTTYPE=image/png:https://micascottikole.com/wp-content/uploads/2017/04/BG_Flash.png
END:VEVENT
BEGIN:VEVENT
DTSTART;VALUE=DATE:20180801
DTEND;VALUE=DATE:20180802
DTSTAMP:20260422T104715
CREATED:20180628T052029Z
LAST-MODIFIED:20180628T052029Z
UID:9151-1533081600-1533167999@micascottikole.com
SUMMARY:ENDING: Publishizer Nonfiction Proposal Contest
DESCRIPTION:The Publishizer Proposal Contest is for nonfiction book proposals in the following categories (quoted from host site): \n— \nEmpowered is seeking thought leaders at the intersection of business\, technology\, and innovation. \nMind Body Science is for those researching the frontiers of consciousness and human wellbeing. \nSuperhumans seeks authors exploring health\, wellness\, alternative lifestyles and peak performance. \n— \nSubmit a 1000-word proposal for an unpublished book idea. The proposal that gets the most pre-orders in each category earns $500\, and a collection of publishing houses will choose a $500 winner in each category as well. Note: FWE does not normally promote voting or campaign contests but in this case it seems like those aspects of the contest are handled in a more serious and fair capacity\, and an exception has been made. \nMore info here. Hosted by Publishizer. \n  \nFree Writing Events offers budget editing services from $5-10!\nYou can also support FWE on Patreon to keep it ad-free. \nSee any errors? Have I missed an event?\nContact me!
URL:https://micascottikole.com/events/ending-publishizer-nonfiction-proposal-contest/
ATTACH;FMTTYPE=image/png:https://micascottikole.com/wp-content/uploads/2017/04/BG_Nonfiction.png
END:VEVENT
END:VCALENDAR