BEGIN:VCALENDAR
VERSION:2.0
PRODID:-//Mica Scotti Kole - ECPv5.2.0//NONSGML v1.0//EN
CALSCALE:GREGORIAN
METHOD:PUBLISH
X-WR-CALNAME:Mica Scotti Kole
X-ORIGINAL-URL:https://micascottikole.com
X-WR-CALDESC:Events for Mica Scotti Kole
BEGIN:VTIMEZONE
TZID:America/Detroit
BEGIN:DAYLIGHT
TZOFFSETFROM:-0500
TZOFFSETTO:-0400
TZNAME:EDT
DTSTART:20180311T070000
END:DAYLIGHT
BEGIN:STANDARD
TZOFFSETFROM:-0400
TZOFFSETTO:-0500
TZNAME:EST
DTSTART:20181104T060000
END:STANDARD
END:VTIMEZONE
BEGIN:VEVENT
DTSTART;VALUE=DATE:20180730
DTEND;VALUE=DATE:20180802
DTSTAMP:20260422T121055
CREATED:20180731T014201Z
LAST-MODIFIED:20180731T014201Z
UID:9199-1532908800-1533167999@micascottikole.com
SUMMARY:3x3 Writing Challenge
DESCRIPTION:The 3×3 Writing Challenge is a live Facebook event. Write a story/poem/blog post a day and win these prizes: \n-Coaching session with @saracconnell ($500 value)\n-21-Day Writing Boot Camp ($997 value)\n-And more! \nMore info here. Hosted by Sara Connell. \nFree Writing Events offers budget editing services from $5-10!\nYou can also support FWE on Patreon to keep it ad-free. \nSee any errors? Have I missed an event?\nContact me!
URL:https://micascottikole.com/events/3x3-writing-challenge/
ATTACH;FMTTYPE=image/png:https://micascottikole.com/wp-content/uploads/2017/04/BG_Event.png
END:VEVENT
BEGIN:VEVENT
DTSTART;VALUE=DATE:20180731
DTEND;VALUE=DATE:20180801
DTSTAMP:20260422T121055
CREATED:20180530T033544Z
LAST-MODIFIED:20180530T033544Z
UID:9009-1532995200-1533081599@micascottikole.com
SUMMARY:ENDING: Foyle Poetry Contest (Youth)
DESCRIPTION:The Foyle Poetry Contest is for poems of any style by poets aged 11-17. Prize is publication in various avenues. \nMore info here. Hosted by The Poetry Society. \n  \nFree Writing Events offers budget editing services from $5-10!\nYou can also support FWE on Patreon to keep it ad-free. \nSee any errors? Have I missed an event?\nContact me!
URL:https://micascottikole.com/events/ending-foyle-poetry-contest-youth/
ATTACH;FMTTYPE=image/png:https://micascottikole.com/wp-content/uploads/2017/04/BG_Youth.png
END:VEVENT
BEGIN:VEVENT
DTSTART;VALUE=DATE:20180731
DTEND;VALUE=DATE:20180801
DTSTAMP:20260422T121055
CREATED:20180530T034146Z
LAST-MODIFIED:20180530T034146Z
UID:9016-1532995200-1533081599@micascottikole.com
SUMMARY:ENDING: Polar Expressions Poetry and Flash Contests (CAN: Youth/Adult)
DESCRIPTION:The Polar Expressions Contests are for poetry up to 48 lines and flash fiction up to 750 words by Canadian writers of all ages. There are two age categories above and below age 15. Prizes range from $50 to $500 from placing\, but more will be published in a keepsake edition. \nMore info here. Hosted by Polar Expressions Publishing. \n  \nFree Writing Events offers budget editing services from $5-10!\nYou can also support FWE on Patreon to keep it ad-free. \nSee any errors? Have I missed an event?\nContact me!
URL:https://micascottikole.com/events/ending-polar-expressions-poetry-flash-contests-can-youth-adult/
ATTACH;FMTTYPE=image/png:https://micascottikole.com/wp-content/uploads/2017/04/BG_YouthAdult.png
END:VEVENT
BEGIN:VEVENT
DTSTART;VALUE=DATE:20180731
DTEND;VALUE=DATE:20180801
DTSTAMP:20260422T121055
CREATED:20180628T011004Z
LAST-MODIFIED:20180628T011004Z
UID:9108-1532995200-1533081599@micascottikole.com
SUMMARY:ENDING: Landfall Essay Competition (New Zealand)
DESCRIPTION:The Landfall Essay Competition is for personal essays on any subject by New Zealand residents. Prize is NZ$3\,000 and possible publication. \nMore info here. Sponsored by Otago University Press. \n  \nFree Writing Events offers budget editing services from $5-10!\nYou can also support FWE on Patreon to keep it ad-free. \nSee any errors? Have I missed an event?\nContact me!
URL:https://micascottikole.com/events/ending-landfall-essay-competition-new-zealand/
ATTACH;FMTTYPE=image/png:https://micascottikole.com/wp-content/uploads/2017/04/BG_PersonalEssay.png
END:VEVENT
BEGIN:VEVENT
DTSTART;VALUE=DATE:20180731
DTEND;VALUE=DATE:20180801
DTSTAMP:20260422T121055
CREATED:20180628T011703Z
LAST-MODIFIED:20180628T011703Z
UID:9116-1532995200-1533081599@micascottikole.com
SUMMARY:ENDING: Diverse Writers/ Diverse Worlds
DESCRIPTION:The Diverse Writers/ Diverse Worlds grants are for work by diverse and marginalized authors\, or for work that presents a diverse world regardless of author background. Submit a work-in-progress manuscript excerpt up to 5\,000 words. Each grant is worth $500. \nMore info here. Hosted by the Speculative Literature Foundation. \n  \nFree Writing Events offers budget editing services from $5-10!\nYou can also support FWE on Patreon to keep it ad-free. \nSee any errors? Have I missed an event?\nContact me!
URL:https://micascottikole.com/events/ending-diverse-writers-diverse-worlds/
ATTACH;FMTTYPE=image/png:https://micascottikole.com/wp-content/uploads/2017/04/BG_Novel.png
END:VEVENT
BEGIN:VEVENT
DTSTART;VALUE=DATE:20180731
DTEND;VALUE=DATE:20180801
DTSTAMP:20260422T121055
CREATED:20180628T012452Z
LAST-MODIFIED:20180628T012452Z
UID:9114-1532995200-1533081599@micascottikole.com
SUMMARY:ENDING: Betjeman Poetry Prize (Youth: UK/Ireland)
DESCRIPTION:The Betjeman Poetry Prize is for poetry on the theme PLACE by youth aged 10-13 from the UK and Ireland. Any length. Prize is £500 and anthology publication\, plus £5000 for the winners’ school. \nMore info here. Self-hosted. \n  \nFree Writing Events offers budget editing services from $5-10!\nYou can also support FWE on Patreon to keep it ad-free. \nSee any errors? Have I missed an event?\nContact me!
URL:https://micascottikole.com/events/ending-betjeman-poetry-prize-youth-uk-ireland/
ATTACH;FMTTYPE=image/png:https://micascottikole.com/wp-content/uploads/2017/04/BG_Youth.png
END:VEVENT
BEGIN:VEVENT
DTSTART;VALUE=DATE:20180731
DTEND;VALUE=DATE:20180801
DTSTAMP:20260422T121055
CREATED:20180628T012514Z
LAST-MODIFIED:20180628T012514Z
UID:9115-1532995200-1533081599@micascottikole.com
SUMMARY:ENDING: Carers UK Creative Writing Competition (UK)
DESCRIPTION:The Carers UK Creative Writing Competition is for poems or short stories by UK residents about caring for a loved one. Prize is £100 of high street vouchers. \nMore info here. Hosted by Carers UK. \n  \nFree Writing Events offers budget editing services from $5-10!\nYou can also support FWE on Patreon to keep it ad-free. \nSee any errors? Have I missed an event?\nContact me!
URL:https://micascottikole.com/events/ending-carers-uk-creative-writing-competition-uk-2/
ATTACH;FMTTYPE=image/png:https://micascottikole.com/wp-content/uploads/2017/04/BG_ShortStory_Poetry.png
END:VEVENT
BEGIN:VEVENT
DTSTART;VALUE=DATE:20180731
DTEND;VALUE=DATE:20180801
DTSTAMP:20260422T121055
CREATED:20180628T034027Z
LAST-MODIFIED:20180628T190428Z
UID:9138-1532995200-1533081599@micascottikole.com
SUMMARY:ENDING: Dragonfly Tea Story Contest (UK) (Youth)
DESCRIPTION:The Dragonfly Tea Story Contest is for short stories up to 500 words by UK children aged 5-15 on the theme THE WILD GARDEN. Prize is a£50 voucher for each winner  per age category\, plus a £100 voucher for their school. \nMore info here. Hosted by Dragonfly Tea. \n  \nFree Writing Events offers budget editing services from $5-10!\nYou can also support FWE on Patreon to keep it ad-free. \nSee any errors? Have I missed an event?\nContact me!
URL:https://micascottikole.com/events/ending-dragonfly-tea-story-contest-uk-youth/
ATTACH;FMTTYPE=image/png:https://micascottikole.com/wp-content/uploads/2017/04/BG_Youth.png
END:VEVENT
BEGIN:VEVENT
DTSTART;VALUE=DATE:20180731
DTEND;VALUE=DATE:20180801
DTSTAMP:20260422T121055
CREATED:20180711T022206Z
LAST-MODIFIED:20180711T022206Z
UID:9189-1532995200-1533081599@micascottikole.com
SUMMARY:ENDING: TL;DR Horror Submission Window
DESCRIPTION:TL;DR Press is seeking horror submissions up to 2000 words for its anthology. Authors will earn web and print publication. All proceeds from the sale of the anthology will go to charity. \nMore info here. Hosted by TL;DR Press. \n  \nFree Writing Events offers budget editing services from $5-10!\nYou can also support FWE on Patreon to keep it ad-free. \nSee any errors? Have I missed an event?\nContact me!
URL:https://micascottikole.com/events/ending-tldr-horror-submission-window/
ATTACH;FMTTYPE=image/png:https://micascottikole.com/wp-content/uploads/2017/04/BG_Submission.png
END:VEVENT
END:VCALENDAR