BEGIN:VCALENDAR
VERSION:2.0
PRODID:-//Mica Scotti Kole - ECPv5.2.0//NONSGML v1.0//EN
CALSCALE:GREGORIAN
METHOD:PUBLISH
X-WR-CALNAME:Mica Scotti Kole
X-ORIGINAL-URL:https://micascottikole.com
X-WR-CALDESC:Events for Mica Scotti Kole
BEGIN:VTIMEZONE
TZID:America/Detroit
BEGIN:DAYLIGHT
TZOFFSETFROM:-0500
TZOFFSETTO:-0400
TZNAME:EDT
DTSTART:20180311T070000
END:DAYLIGHT
BEGIN:STANDARD
TZOFFSETFROM:-0400
TZOFFSETTO:-0500
TZNAME:EST
DTSTART:20181104T060000
END:STANDARD
END:VTIMEZONE
BEGIN:VEVENT
DTSTART;VALUE=DATE:20180727
DTEND;VALUE=DATE:20180728
DTSTAMP:20260422T154604
CREATED:20180328T031110Z
LAST-MODIFIED:20180430T222808Z
UID:8786-1532649600-1532735999@micascottikole.com
SUMMARY:ENDING: Story of the Year Contest
DESCRIPTION:The Story of the Year Contest is for short stories/nonfiction/novellas between 1000-15\,000 words. There are three prize categories: and three grand prizes as follows Diversity Award ($3000)\, Texas Award ($5000)\, and Character Award ($2000). Only the Texas Award is limited to Texans. \nMore info here and here. Hosted by Story Shares. \n  \nFree Writing Events offers budget editing services from $5-10!\nYou can also support FWE on Patreon to keep it ad-free. \nSee any errors? Have I missed an event?\nContact me!
URL:https://micascottikole.com/events/ending-story-year-contest/
ATTACH;FMTTYPE=image/png:https://micascottikole.com/wp-content/uploads/2017/04/BG_Essay_ShortStory.png
END:VEVENT
END:VCALENDAR