BEGIN:VCALENDAR
VERSION:2.0
PRODID:-//Mica Scotti Kole - ECPv5.2.0//NONSGML v1.0//EN
CALSCALE:GREGORIAN
METHOD:PUBLISH
X-WR-CALNAME:Mica Scotti Kole
X-ORIGINAL-URL:https://micascottikole.com
X-WR-CALDESC:Events for Mica Scotti Kole
BEGIN:VTIMEZONE
TZID:America/Detroit
BEGIN:DAYLIGHT
TZOFFSETFROM:-0500
TZOFFSETTO:-0400
TZNAME:EDT
DTSTART:20180311T070000
END:DAYLIGHT
BEGIN:STANDARD
TZOFFSETFROM:-0400
TZOFFSETTO:-0500
TZNAME:EST
DTSTART:20181104T060000
END:STANDARD
END:VTIMEZONE
BEGIN:VEVENT
DTSTART;VALUE=DATE:20180714
DTEND;VALUE=DATE:20180715
DTSTAMP:20260423T024406
CREATED:20180711T020744Z
LAST-MODIFIED:20180711T020744Z
UID:9187-1531526400-1531612799@micascottikole.com
SUMMARY:#PitProm
DESCRIPTION:#PitProm is an agent pitching event for completed science fiction and fantasy manuscripts. Of the first 200 entrants\, ten in each genre will be chosen to advance to round two\, where two in each genre will get a chance to craft their pitch with an industry professional. A week later\, these final entries will be posted on the website\, where agents and publishers will be able to “vote” for the PitProm King or Queen by making requests. Submit your 140-character pitch\, query letter\, and first ten pages starting 10am EST / 7am PST/ 3pm GMT on July 14th. Only the first 200 entrants will be considered. \nMore info here. Hosted by various administrators. \n  \nFree Writing Events offers budget editing services from $5-10!\nYou can also support FWE on Patreon to keep it ad-free. \nSee any errors? Have I missed an event?\nContact me!
URL:https://micascottikole.com/events/pitprom/
ATTACH;FMTTYPE=image/png:https://micascottikole.com/wp-content/uploads/2017/04/BG_Query.png
END:VEVENT
END:VCALENDAR