BEGIN:VCALENDAR
VERSION:2.0
PRODID:-//Mica Scotti Kole - ECPv5.2.0//NONSGML v1.0//EN
CALSCALE:GREGORIAN
METHOD:PUBLISH
X-WR-CALNAME:Mica Scotti Kole
X-ORIGINAL-URL:https://micascottikole.com
X-WR-CALDESC:Events for Mica Scotti Kole
BEGIN:VTIMEZONE
TZID:America/Detroit
BEGIN:DAYLIGHT
TZOFFSETFROM:-0500
TZOFFSETTO:-0400
TZNAME:EDT
DTSTART:20180311T070000
END:DAYLIGHT
BEGIN:STANDARD
TZOFFSETFROM:-0400
TZOFFSETTO:-0500
TZNAME:EST
DTSTART:20181104T060000
END:STANDARD
END:VTIMEZONE
BEGIN:VEVENT
DTSTART;VALUE=DATE:20180709
DTEND;VALUE=DATE:20180712
DTSTAMP:20260422T172201
CREATED:20180628T010600Z
LAST-MODIFIED:20180628T010600Z
UID:9110-1531094400-1531353599@micascottikole.com
SUMMARY:ENDING: Pass or Pages (YA Contemporary)
DESCRIPTION:Pass or Pages is for unrepresented YA Contemporary Novels. Submit your query for a chance to come before agents and have them either pass or ask for more pages\, and give reasons why. \nMore info here and here. Hosted by Operation Awesome. \n  \nFree Writing Events offers budget editing services from $5-10!\nYou can also support FWE on Patreon to keep it ad-free. \nSee any errors? Have I missed an event?\nContact me!
URL:https://micascottikole.com/events/ending-pass-pages-ya-contemporary/
END:VEVENT
BEGIN:VEVENT
DTSTART;VALUE=DATE:20180709
DTEND;VALUE=DATE:20180710
DTSTAMP:20260422T172201
CREATED:20180628T020055Z
LAST-MODIFIED:20180628T020055Z
UID:9127-1531094400-1531180799@micascottikole.com
SUMMARY:ENDING: Oregon Literary Fellowships (USA: Oregon)
DESCRIPTION:The Oregon Literary Fellowships are for up to 15 pages poetry or 25 pages of prose by full-time Oregon residents. Poetry\, fiction\, personal essays\, drama\, and children’s literature all accepted. Prizes up to $3500\, with one $3000 fellowship each to a female writer or to a person of color. \nMore info here. Sponsored by the Oregon Arts Commission. \n  \nFree Writing Events offers budget editing services from $5-10!\nYou can also support FWE on Patreon to keep it ad-free. \nSee any errors? Have I missed an event?\nContact me!
URL:https://micascottikole.com/events/ending-oregon-literary-fellowships-usa-oregon/
ATTACH;FMTTYPE=image/png:https://micascottikole.com/wp-content/uploads/2017/04/BG_Various.png
END:VEVENT
END:VCALENDAR