BEGIN:VCALENDAR
VERSION:2.0
PRODID:-//Mica Scotti Kole - ECPv5.2.0//NONSGML v1.0//EN
CALSCALE:GREGORIAN
METHOD:PUBLISH
X-WR-CALNAME:Mica Scotti Kole
X-ORIGINAL-URL:https://micascottikole.com
X-WR-CALDESC:Events for Mica Scotti Kole
BEGIN:VTIMEZONE
TZID:America/Detroit
BEGIN:DAYLIGHT
TZOFFSETFROM:-0500
TZOFFSETTO:-0400
TZNAME:EDT
DTSTART:20180311T070000
END:DAYLIGHT
BEGIN:STANDARD
TZOFFSETFROM:-0400
TZOFFSETTO:-0500
TZNAME:EST
DTSTART:20181104T060000
END:STANDARD
END:VTIMEZONE
BEGIN:VEVENT
DTSTART;VALUE=DATE:20180630
DTEND;VALUE=DATE:20180701
DTSTAMP:20260422T171611
CREATED:20180227T034959Z
LAST-MODIFIED:20180611T162930Z
UID:8535-1530316800-1530403199@micascottikole.com
SUMMARY:ENDING: Writers of the Future
DESCRIPTION:Writers of the Future is for short science fiction and fantasy stories/novellas up to 17\,000 words.  Prize is $1000 plus a shot at the yearly prize of $5000. This contest is quarterly. \nMore info here. Sponsored by Author Services\, Inc. Note: this contest has been loosely associated with the Church of Scientology. Here is a good article I’ve found on the subject. \n  \nFree Writing Events offers budget editing services from $5-10!\nYou can also support FWE on Patreon to keep it ad-free. \nSee any errors? Have I missed an event?\nContact me!
URL:https://micascottikole.com/events/ending-writers-future-6/
ATTACH;FMTTYPE=image/png:https://micascottikole.com/wp-content/uploads/2017/04/BG_ShortStory.png
END:VEVENT
BEGIN:VEVENT
DTSTART;VALUE=DATE:20180630
DTEND;VALUE=DATE:20180701
DTSTAMP:20260422T171611
CREATED:20180518T171438Z
LAST-MODIFIED:20180518T171438Z
UID:9002-1530316800-1530403199@micascottikole.com
SUMMARY:Ending: TL;DR Women Writers Anthology Submission Window (Women)
DESCRIPTION:The TL;DR Women Writers Anthology is seeking short fiction and poetry by women writers in any genre. For fiction\, submit either one piece up to 4000 words or two pieces up to 2000 words each. This includes anyone who self-identifies as a woman. Accepted submissions will earn print and web publication; all proceeds from the sale of the book will go to charity. \nMore info here. Hosted by TL;DR press. \n  \nFree Writing Events offers budget editing services from $5-10!\nYou can also support FWE on Patreon to keep it ad-free. \nSee any errors? Have I missed an event?\nContact me!
URL:https://micascottikole.com/events/ending-tldr-women-writers-anthology-submission-window-women/
ATTACH;FMTTYPE=image/png:https://micascottikole.com/wp-content/uploads/2017/04/BG_Submission.png
END:VEVENT
BEGIN:VEVENT
DTSTART;VALUE=DATE:20180630
DTEND;VALUE=DATE:20180701
DTSTAMP:20260422T171611
CREATED:20180530T031821Z
LAST-MODIFIED:20180530T031821Z
UID:9007-1530316800-1530403199@micascottikole.com
SUMMARY:ENDING: British Czech and Slovak Association Competition
DESCRIPTION:The BCSA Competition is for writing on the ties between Britain and Czechoslovakia alongside the theme “anniversary.” (See this page for a lot more detail on this.) Submit story up to 2000 words; any nationality can enter. Prize is £400 and publication\, plus award ceremony in London. \nMore info here. Hosted by the BCSA. \n  \nFree Writing Events offers budget editing services from $5-10!\nYou can also support FWE on Patreon to keep it ad-free. \nSee any errors? Have I missed an event?\nContact me!
URL:https://micascottikole.com/events/ending-british-czech-slovak-association-competition/
ATTACH;FMTTYPE=image/png:https://micascottikole.com/wp-content/uploads/2017/04/BG_ShortStory.png
END:VEVENT
BEGIN:VEVENT
DTSTART;VALUE=DATE:20180630
DTEND;VALUE=DATE:20180701
DTSTAMP:20260422T171611
CREATED:20180530T034716Z
LAST-MODIFIED:20180530T034716Z
UID:9015-1530316800-1530403199@micascottikole.com
SUMMARY:ENDING: Blue Mountain Arts Contest
DESCRIPTION:The Blue Mountain Arts Contest is for poetry intended for the inside of greeting cards. Prizes range from $100-350. \nMore info here. Hosted by Blue Mountain Arts. \n  \nFree Writing Events offers budget editing services from $5-10!\nYou can also support FWE on Patreon to keep it ad-free. \nSee any errors? Have I missed an event?\nContact me!
URL:https://micascottikole.com/events/ending-blue-mountain-arts-contest/
ATTACH;FMTTYPE=image/png:https://micascottikole.com/wp-content/uploads/2017/04/BG_poetry.png
END:VEVENT
BEGIN:VEVENT
DTSTART;VALUE=DATE:20180630
DTEND;VALUE=DATE:20180701
DTSTAMP:20260422T171611
CREATED:20180530T035146Z
LAST-MODIFIED:20180530T035146Z
UID:9020-1530316800-1530403199@micascottikole.com
SUMMARY:ENDING: Letheon Poetry Contest
DESCRIPTION:The Letheon Poetry Contest is for 1-3 poems up to 50 lines each that relate “to the perioperative setting” (in other words\, to doctors\, patients\, and the family members of either). Prize is $500 and publication in Anesthesiology Magazine. \nMore info here. Hosted by Anesthesiology Magazine. \n  \nFree Writing Events offers budget editing services from $5-10!\nYou can also support FWE on Patreon to keep it ad-free. \nSee any errors? Have I missed an event?\nContact me!
URL:https://micascottikole.com/events/ending-letheon-poetry-contest/
ATTACH;FMTTYPE=image/png:https://micascottikole.com/wp-content/uploads/2017/04/BG_poetry.png
END:VEVENT
BEGIN:VEVENT
DTSTART;VALUE=DATE:20180630
DTEND;VALUE=DATE:20180701
DTSTAMP:20260422T171611
CREATED:20180530T035507Z
LAST-MODIFIED:20180530T035507Z
UID:9019-1530316800-1530403199@micascottikole.com
SUMMARY:ENDING: Meriwether First Book Prize (PoC)(Female/NB)
DESCRIPTION:The Louise Meriwether First Book Prize is for novels\, short story collections\, or narrative memoirs by female/nonbinary authors of color. Size can be 50\,000-80\,000 words. Prize is $5\,000 and a publishing contract. \nMore info here and here. Hosted by TAYO literary magazine. \n  \nFree Writing Events offers budget editing services from $5-10!\nYou can also support FWE on Patreon to keep it ad-free. \nSee any errors? Have I missed an event?\nContact me!
URL:https://micascottikole.com/events/ending-meriwether-first-book-prize-pocfemale-nb/
ATTACH;FMTTYPE=image/png:https://micascottikole.com/wp-content/uploads/2017/04/BG_Novel.png
END:VEVENT
BEGIN:VEVENT
DTSTART;VALUE=DATE:20180630
DTEND;VALUE=DATE:20180701
DTSTAMP:20260422T171611
CREATED:20180530T055105Z
LAST-MODIFIED:20180530T055105Z
UID:9042-1530316800-1530403199@micascottikole.com
SUMMARY:ENDING: Smarty Pants "Wow Us" Contest (Youth)
DESCRIPTION:The Smarty Pants “Wow Us” Contest is for fun facts discovered by children aged 5-13\, written out and accompanied by a paragraph explaining why the fun fact is cool.  Prize is a $15 Amazon gift card and a feature in Smarty Pants Magazine. \nMore info here. Hosted by Smarty Pants Magazine. \n  \nFree Writing Events offers budget editing services from $5-10!\nYou can also support FWE on Patreon to keep it ad-free. \nSee any errors? Have I missed an event?\nContact me!
URL:https://micascottikole.com/events/ending-smarty-pants-wow-us-contest-youth/
ATTACH;FMTTYPE=image/png:https://micascottikole.com/wp-content/uploads/2017/04/BG_Youth.png
END:VEVENT
BEGIN:VEVENT
DTSTART;VALUE=DATE:20180630
DTEND;VALUE=DATE:20180701
DTSTAMP:20260422T171611
CREATED:20180530T175456Z
LAST-MODIFIED:20180627T154607Z
UID:9046-1530316800-1530403199@micascottikole.com
SUMMARY:ENDING: Owl Canyon Short Story Hackathon
DESCRIPTION:The Owl Canyon Short Story Hackathon is for short stories of 50 paragraphs that begin and end with the paragraphs given (the entrant writes the 48 paragraphs between them). Prize is $250-1000. Any style of writing is welcome. \nMore info here (cool video here). Sponsored by Owl Canyon Press. \n  \nFree Writing Events offers budget editing services from $5-10!\nYou can also support FWE on Patreon to keep it ad-free. \nSee any errors? Have I missed an event?\nContact me!
URL:https://micascottikole.com/events/ending-owl-canyon-short-story-hackathon/
ATTACH;FMTTYPE=image/png:https://micascottikole.com/wp-content/uploads/2017/04/BG_ShortStory.png
END:VEVENT
END:VCALENDAR