BEGIN:VCALENDAR
VERSION:2.0
PRODID:-//Mica Scotti Kole - ECPv5.2.0//NONSGML v1.0//EN
CALSCALE:GREGORIAN
METHOD:PUBLISH
X-WR-CALNAME:Mica Scotti Kole
X-ORIGINAL-URL:https://micascottikole.com
X-WR-CALDESC:Events for Mica Scotti Kole
BEGIN:VTIMEZONE
TZID:America/Detroit
BEGIN:DAYLIGHT
TZOFFSETFROM:-0500
TZOFFSETTO:-0400
TZNAME:EDT
DTSTART:20180311T070000
END:DAYLIGHT
BEGIN:STANDARD
TZOFFSETFROM:-0400
TZOFFSETTO:-0500
TZNAME:EST
DTSTART:20181104T060000
END:STANDARD
END:VTIMEZONE
BEGIN:VEVENT
DTSTART;VALUE=DATE:20180622
DTEND;VALUE=DATE:20180623
DTSTAMP:20260422T213647
CREATED:20180530T041222Z
LAST-MODIFIED:20180530T041222Z
UID:9025-1529625600-1529711999@micascottikole.com
SUMMARY:ENDING: Utah Original Writing Competition (USA: UT)
DESCRIPTION:The Utah Original Writing Competition is for work by Utah authors. This includes previously unpublished book-length novels\, creative nonfiction and history\, poetry or short story collections\, and children’s books; and poems\, stories\, and essays. Prize up to $1000 for book-length work and up to $300 for short form work. \nMore info here and here. Hosted by Utah Division of Arts and Museums. \n  \nFree Writing Events offers budget editing services from $5-10!\nYou can also support FWE on Patreon to keep it ad-free. \nSee any errors? Have I missed an event?\nContact me!
URL:https://micascottikole.com/events/ending-utah-original-writing-competition-usa-ut/
ATTACH;FMTTYPE=image/png:https://micascottikole.com/wp-content/uploads/2017/04/BG_Various.png
END:VEVENT
END:VCALENDAR