BEGIN:VCALENDAR
VERSION:2.0
PRODID:-//Mica Scotti Kole - ECPv5.2.0//NONSGML v1.0//EN
CALSCALE:GREGORIAN
METHOD:PUBLISH
X-WR-CALNAME:Mica Scotti Kole
X-ORIGINAL-URL:https://micascottikole.com
X-WR-CALDESC:Events for Mica Scotti Kole
BEGIN:VTIMEZONE
TZID:America/Detroit
BEGIN:DAYLIGHT
TZOFFSETFROM:-0500
TZOFFSETTO:-0400
TZNAME:EDT
DTSTART:20180311T070000
END:DAYLIGHT
BEGIN:STANDARD
TZOFFSETFROM:-0400
TZOFFSETTO:-0500
TZNAME:EST
DTSTART:20181104T060000
END:STANDARD
END:VTIMEZONE
BEGIN:VEVENT
DTSTART;VALUE=DATE:20180613
DTEND;VALUE=DATE:20180617
DTSTAMP:20260422T220112
CREATED:20180530T181137Z
LAST-MODIFIED:20180530T181137Z
UID:9052-1528848000-1529193599@micascottikole.com
SUMMARY:ENDING: SavvyAuthors Hot Summer PitchFest
DESCRIPTION:The SavvyAuthors Hot Summer PitchFest is for unpublished novels seeking representation or publication. Pitch your book on the blog to the listed agents and/or editors of your choosing. The agents/editors will then make requests from the pitch pool. \nMore info here and here. Hosted by SavvyAuthors. \n  \nFree Writing Events offers budget editing services from $5-10!\nYou can also support FWE on Patreon to keep it ad-free. \nSee any errors? Have I missed an event?\nContact me!
URL:https://micascottikole.com/events/ending-savvyauthors-hot-summer-pitchfest/
ATTACH;FMTTYPE=image/png:https://micascottikole.com/wp-content/uploads/2017/04/BG_PitchParty.png
END:VEVENT
BEGIN:VEVENT
DTSTART;VALUE=DATE:20180615
DTEND;VALUE=DATE:20180616
DTSTAMP:20260422T220112
CREATED:20180427T052734Z
LAST-MODIFIED:20180430T222921Z
UID:8872-1529020800-1529107199@micascottikole.com
SUMMARY:ENDING: Bland Crime Fiction Award (Diverse: PoC)
DESCRIPTION:The Bland Crime Fiction Award  is for crime fiction of 2500-5000 words by writers of color. Prize is a $1\,500 grant. \nMore info here. Sponsored by Sisters in Crime. \n  \nFree Writing Events offers budget editing services from $5-10!\nYou can also support FWE on Patreon to keep it ad-free. \nSee any errors? Have I missed an event?\nContact me!
URL:https://micascottikole.com/events/ending-bland-crime-fiction-award-diverse-poc/
ATTACH;FMTTYPE=image/png:https://micascottikole.com/wp-content/uploads/2017/04/BG_ShortStory.png
END:VEVENT
BEGIN:VEVENT
DTSTART;VALUE=DATE:20180615
DTEND;VALUE=DATE:20180616
DTSTAMP:20260422T220112
CREATED:20180427T052953Z
LAST-MODIFIED:20180430T223000Z
UID:8876-1529020800-1529107199@micascottikole.com
SUMMARY:ENDING: Work Abroad Travel Writing Contest
DESCRIPTION:The Work Abroad Travel Writing Contest is for essays from 1200-3000 words on one’s experience working abroad. Prizes range from $50 to $500. \nMore info here. Sponsored by Transitions Abroad Publishing\, Inc.. \n  \nFree Writing Events offers budget editing services from $5-10!\nYou can also support FWE on Patreon to keep it ad-free. \nSee any errors? Have I missed an event?\nContact me!
URL:https://micascottikole.com/events/ending-work-abroad-travel-writing-contest/
ATTACH;FMTTYPE=image/png:https://micascottikole.com/wp-content/uploads/2017/04/BG_PersonalEssay.png
END:VEVENT
BEGIN:VEVENT
DTSTART;VALUE=DATE:20180615
DTEND;VALUE=DATE:20180616
DTSTAMP:20260422T220112
CREATED:20180427T053513Z
LAST-MODIFIED:20180430T222912Z
UID:8873-1529020800-1529107199@micascottikole.com
SUMMARY:ENDING: Goi Peace Essay Contest (Youth/Adult)
DESCRIPTION:The Goi Peace Essay Contest is for essays by ages up to 25 on the theme “the change I want to make.” Word count 700 or less. Prize up to $900. \nMore info here. Sponsored by Goi Peace Foundation. \n  \nFree Writing Events offers budget editing services from $5-10!\nYou can also support FWE on Patreon to keep it ad-free. \nSee any errors? Have I missed an event?\nContact me!
URL:https://micascottikole.com/events/ending-goi-peace-essay-contest-youth-adult/
ATTACH;FMTTYPE=image/png:https://micascottikole.com/wp-content/uploads/2017/04/BG_PersonalEssay.png
END:VEVENT
BEGIN:VEVENT
DTSTART;VALUE=DATE:20180615
DTEND;VALUE=DATE:20180616
DTSTAMP:20260422T220112
CREATED:20180427T055700Z
LAST-MODIFIED:20180430T222908Z
UID:8883-1529020800-1529107199@micascottikole.com
SUMMARY:ENDING: Norton Writing Prize (College)
DESCRIPTION:The Norton Writing Prize is for any nonfiction writing done by students enrolled in a 2 or 4 year course (1000-3000 words) including “literary narratives\, literary and other textual analyses\, reports\, profiles\, evaluations\, arguments\, memoirs\, proposals” and more. Prize $1500. \nMore info here. Hosted by W.W. Norton & Company. \n  \nFree Writing Events offers budget editing services from $5-10!\nYou can also support FWE on Patreon to keep it ad-free. \nSee any errors? Have I missed an event?\nContact me!
URL:https://micascottikole.com/events/ending-norton-writing-prize-college/
ATTACH;FMTTYPE=image/png:https://micascottikole.com/wp-content/uploads/2017/04/BG_Nonfiction.png
END:VEVENT
BEGIN:VEVENT
DTSTART;VALUE=DATE:20180615
DTEND;VALUE=DATE:20180616
DTSTAMP:20260422T220112
CREATED:20180427T160430Z
LAST-MODIFIED:20180430T222232Z
UID:8902-1529020800-1529107199@micascottikole.com
SUMMARY:ENDING: Towson University Prize for Literature (USA: Maryland) (Pubbed)
DESCRIPTION:The Towson University Prize for Literature is for books published in the past three years or in the upcoming year by Maryland authors. Poetry\, fiction\, or creative nonfiction accepted. Must be a current resident of Maryland who has lived in the state for at least three years. Prize is $1\,000. \nMore info here and here. Hosted by Towson University. \n  \nFree Writing Events offers budget editing services from $5-10!\nYou can also support FWE on Patreon to keep it ad-free. \nSee any errors? Have I missed an event?\nContact me!
URL:https://micascottikole.com/events/ending-towson-university-prize-literature-usa-maryland-pubbed/
END:VEVENT
BEGIN:VEVENT
DTSTART;VALUE=DATE:20180615
DTEND;VALUE=DATE:20180616
DTSTAMP:20260422T220112
CREATED:20180427T161726Z
LAST-MODIFIED:20180430T222221Z
UID:8899-1529020800-1529107199@micascottikole.com
SUMMARY:ENDING: Bard Fiction Prize (Pubbed) (USA) (Age 18-39)
DESCRIPTION:The Bard Fiction Prize is for authors with a published work of literary fiction. Prize is $30\,000 and an appointment as Bard College writer-in-residence. Entrants must be age 39 or younger. \nMore info here. Sponsored by Bard College. \n  \nFree Writing Events offers budget editing services from $5-10!\nYou can also support FWE on Patreon to keep it ad-free. \nSee any errors? Have I missed an event?\nContact me!
URL:https://micascottikole.com/events/ending-bard-fiction-prize-pubbed-usa-age-18-39/
ATTACH;FMTTYPE=image/png:https://micascottikole.com/wp-content/uploads/2017/04/BG_Published.png
END:VEVENT
BEGIN:VEVENT
DTSTART;VALUE=DATE:20180615
DTEND;VALUE=DATE:20180616
DTSTAMP:20260422T220112
CREATED:20180530T042220Z
LAST-MODIFIED:20180530T042237Z
UID:9029-1529020800-1529107199@micascottikole.com
SUMMARY:ENDING: Singapore Poetry Contest
DESCRIPTION:The Singapore Poetry Contest is for poetry containing the word “Singapore.” Anyone except someone from Singapore can enter. Submit up to 3 poems of any length. Prize up to $100. \nMore info here. Hosted by Singapore Unbound. \n  \nFree Writing Events offers budget editing services from $5-10!\nYou can also support FWE on Patreon to keep it ad-free. \nSee any errors? Have I missed an event?\nContact me!
URL:https://micascottikole.com/events/ending-singapore-poetry-contest-2/
ATTACH;FMTTYPE=image/png:https://micascottikole.com/wp-content/uploads/2017/04/BG_poetry.png
END:VEVENT
BEGIN:VEVENT
DTSTART;VALUE=DATE:20180615
DTEND;VALUE=DATE:20180616
DTSTAMP:20260422T220112
CREATED:20180530T180849Z
LAST-MODIFIED:20180530T180849Z
UID:9053-1529020800-1529107199@micascottikole.com
SUMMARY:ENDING: Walter Grant for Children's Literature (US) (Diverse)
DESCRIPTION:The Walter Grant is for diverse writers and illustrators of children’s fiction who reside in the US and have not published a book.  Children’s in this case means anything from a board book to young adult.  Self-published authors not eligible. The grant will go towards supporting a specific manuscript. Diverse in this case means: a person of color\, a Native American\, a person identifying as LGBTQIA+\, a person with a disability\, or a person of a marginalized religious or cultural minority. Five grants of $2000 each will be given. \nMore info here and here. Sponsored by We Need Diverse Books. \n  \nFree Writing Events offers budget editing services from $5-10!\nYou can also support FWE on Patreon to keep it ad-free. \nSee any errors? Have I missed an event?\nContact me!
URL:https://micascottikole.com/events/ending-walter-grant-childrens-literature-us-diverse/
ATTACH;FMTTYPE=image/png:https://micascottikole.com/wp-content/uploads/2017/04/BG_Childrens.png
END:VEVENT
END:VCALENDAR